BEGIN:VCALENDAR
VERSION:2.0
PRODID:-//Bar XIII - ECPv6.15.20//NONSGML v1.0//EN
CALSCALE:GREGORIAN
METHOD:PUBLISH
X-ORIGINAL-URL:https://barxiii.com
X-WR-CALDESC:Events for Bar XIII
REFRESH-INTERVAL;VALUE=DURATION:PT1H
X-Robots-Tag:noindex
X-PUBLISHED-TTL:PT1H
BEGIN:VTIMEZONE
TZID:America/New_York
BEGIN:DAYLIGHT
TZOFFSETFROM:-0500
TZOFFSETTO:-0400
TZNAME:EDT
DTSTART:20250309T070000
END:DAYLIGHT
BEGIN:STANDARD
TZOFFSETFROM:-0400
TZOFFSETTO:-0500
TZNAME:EST
DTSTART:20251102T060000
END:STANDARD
BEGIN:DAYLIGHT
TZOFFSETFROM:-0500
TZOFFSETTO:-0400
TZNAME:EDT
DTSTART:20260308T070000
END:DAYLIGHT
BEGIN:STANDARD
TZOFFSETFROM:-0400
TZOFFSETTO:-0500
TZNAME:EST
DTSTART:20261101T060000
END:STANDARD
BEGIN:DAYLIGHT
TZOFFSETFROM:-0500
TZOFFSETTO:-0400
TZNAME:EDT
DTSTART:20270314T070000
END:DAYLIGHT
BEGIN:STANDARD
TZOFFSETFROM:-0400
TZOFFSETTO:-0500
TZNAME:EST
DTSTART:20271107T060000
END:STANDARD
END:VTIMEZONE
BEGIN:VTIMEZONE
TZID:America/New_York
BEGIN:DAYLIGHT
TZOFFSETFROM:-0500
TZOFFSETTO:-0400
TZNAME:EDT
DTSTART:20250309T070000
END:DAYLIGHT
BEGIN:STANDARD
TZOFFSETFROM:-0400
TZOFFSETTO:-0500
TZNAME:EST
DTSTART:20251102T060000
END:STANDARD
BEGIN:DAYLIGHT
TZOFFSETFROM:-0500
TZOFFSETTO:-0400
TZNAME:EDT
DTSTART:20260308T070000
END:DAYLIGHT
BEGIN:STANDARD
TZOFFSETFROM:-0400
TZOFFSETTO:-0500
TZNAME:EST
DTSTART:20261101T060000
END:STANDARD
BEGIN:DAYLIGHT
TZOFFSETFROM:-0500
TZOFFSETTO:-0400
TZNAME:EDT
DTSTART:20270314T070000
END:DAYLIGHT
BEGIN:STANDARD
TZOFFSETFROM:-0400
TZOFFSETTO:-0500
TZNAME:EST
DTSTART:20271107T060000
END:STANDARD
END:VTIMEZONE
BEGIN:VEVENT
DTSTART;TZID=America/New_York:20260522T200000
DTEND;TZID=America/New_York:20260522T200000
DTSTAMP:20260425T194414
CREATED:20260423T001640Z
LAST-MODIFIED:20260423T001640Z
UID:3877-1779480000-1779480000@barxiii.com
SUMMARY:Jersey Shore - GTL Dance Party
DESCRIPTION:DELCO DEGENERATES DANCE PARTY: JERSEY SHORE EDIT \nGet ready to fist pump the night away because we’re bringing the Jersey Shore energy straight to Bar XIII \nIt’s all about Gym. Tan. Laundry. Party. — and we’re going ALL IN.\n\nJoin the Delco Degenerates for a wild night of dancing\, drinks\, and unforgettable vibes. Whether you’re channeling your inner Snooki\, Situation\, or just here to party\, this is your night to go full shore mode.\n\n Friday\, May 22nd 8PM – 1AM Bar XIII – Wilmington\, DE\n\n What to expect:• High-energy dance floor all night• Jersey Shore-inspired chaos (the good kind )• Drinks flowing + party atmosphere• A crowd that came to have FUN\n\n Dress Code:Lingerie encouraged… but not required Everyone is welcome—just bring the energy.\n\n Grab your tickets now:https://www.simpletix.com/…/jersey-shore-gtl-dance…\nDon’t wait—this one’s gonna PACK out.\nGrab your crew\, throw on your hottest look\, and let’s make it a night to remember.\nCabs are here… let’s gooooo
URL:https://barxiii.com/e/jersey-shore-gtl-dance-party/
LOCATION:Bar XIII\, 1706 Philadelphia Pike\, Wilmington\, DE\, 19809\, United States
CATEGORIES:featured
ATTACH;FMTTYPE=image/jpeg:https://barxiii.com/wp-content/uploads/2026/04/Jersey-Shore-GTL-Dance-Party.jpg
END:VEVENT
BEGIN:VEVENT
DTSTART;TZID=America/New_York:20260523T200000
DTEND;TZID=America/New_York:20260523T200000
DTSTAMP:20260425T194414
CREATED:20260403T151734Z
LAST-MODIFIED:20260403T151734Z
UID:3831-1779566400-1779566400@barxiii.com
SUMMARY:Asylum 13 | Cut Rate Box & Nuda | LIVE Electronic Music | DJs Saga & Drax
DESCRIPTION:The signal cuts in again.\nOn May 23rd\, the line between the dancefloor and something deeper starts to blur. Dark electronics\, industrial pulse\, and synth-driven atmosphere take over Bar XIII for a night built on movement\, tension\, and release.\n\nFeaturing live performances from **cut.rate.box** and **Nuda**.\n**cut.rate.box**cut.rate.box operates in a space where driving synthlines and electronic percussion carry as much weight as any guitar ever could. Their sound leans into dark synthwave and electronic body rhythms\, built on tight sequencing\, pulsing bass\, and a live presence that keeps things locked to the floor without losing atmosphere.\n\n**Nuda**Nuda explores the more experimental edges of dark electronic and industrial sound. Built on layered textures\, hypnotic repetition\, and evolving structures\, their performances pull the audience into a more immersive space—where rhythm and abstraction collide and the familiar gives way to something more disorienting and visceral.\nSoundtracked by **Mighty Mike Saga** and DJ Gabriel Drax\, keeping the energy moving between sets with a blend of industrial\, darkwave\, and electronic cuts designed for the floor.\nA special guest opener will be announced soon.\n\n21+Doors at 8:00 PM$20 Advance / $25 Door\nBar XIII – Wilmington\, DE\nStep in early. Stay late. Let the current take you.
URL:https://barxiii.com/e/asylum-13-cut-rate-box-nuda-live-electronic-music-djs-saga-drax/
LOCATION:Bar XIII\, 1706 Philadelphia Pike\, Wilmington\, DE\, 19809\, United States
CATEGORIES:DJ,ebm,featured,goth,industrial
ATTACH;FMTTYPE=image/jpeg:https://barxiii.com/wp-content/uploads/2026/04/nuda.jpg
END:VEVENT
BEGIN:VEVENT
DTSTART;TZID=America/New_York:20260523T200000
DTEND;TZID=America/New_York:20260523T200000
DTSTAMP:20260425T194414
CREATED:20260423T001904Z
LAST-MODIFIED:20260423T001904Z
UID:3879-1779566400-1779566400@barxiii.com
SUMMARY:Asylum 13 | Cut Rate Box & Nuda | LIVE Electronic Music | DJs Saga & Drax
DESCRIPTION:The signal cuts in again.\nOn May 23rd\, the line between the dancefloor and something deeper starts to blur. Dark electronics\, industrial pulse\, and synth-driven atmosphere take over Bar XIII for a night built on movement\, tension\, and release.\nFeaturing live performances from **cut.rate.box** and **Nuda**.\n\n**cut.rate.box**cut.rate.box operates in a space where driving synthlines and electronic percussion carry as much weight as any guitar ever could. Their sound leans into dark synthwave and electronic body rhythms\, built on tight sequencing\, pulsing bass\, and a live presence that keeps things locked to the floor without losing atmosphere.\n\n**Nuda**Nuda explores the more experimental edges of dark electronic and industrial sound. Built on layered textures\, hypnotic repetition\, and evolving structures\, their performances pull the audience into a more immersive space—where rhythm and abstraction collide and the familiar gives way to something more disorienting and visceral.\n\nSoundtracked by **Mighty Mike Saga** and DJ Gabriel Drax\, keeping the energy moving between sets with a blend of industrial\, darkwave\, and electronic cuts designed for the floor.\nA special guest opener will be announced soon.\n\n21+Doors at 8:00 PM$20 Advance / $25 Door\nBar XIII – Wilmington\, DE\nStep in early. Stay late. Let the current take you.
URL:https://barxiii.com/e/asylum-13-cut-rate-box-nuda-live-electronic-music-djs-saga-drax-2/
LOCATION:Bar XIII\, 1706 Philadelphia Pike\, Wilmington\, DE\, 19809\, United States
CATEGORIES:DJ,ebm,featured,goth,industrial
ATTACH;FMTTYPE=image/jpeg:https://barxiii.com/wp-content/uploads/2026/04/cut-rate-box-nuda.jpg
END:VEVENT
BEGIN:VEVENT
DTSTART;TZID=America/New_York:20260524T130000
DTEND;TZID=America/New_York:20260524T130000
DTSTAMP:20260425T194414
CREATED:20260423T001938Z
LAST-MODIFIED:20260423T001938Z
UID:3881-1779627600-1779627600@barxiii.com
SUMMARY:Tavern 13 Dungeon and Dragons w/ Magic The Gathering
DESCRIPTION:Come play Dungeons & Dragons with us at Bar XIII!\nHave a drink and enjoy a one shot session with our talented DMs. All experience levels welcome\, even if you have no experience at all!\n\nPlease follow this link https://forms.gle/U3dXyMNwRZ2PCVyE9 to sign up!\n\nIf you play Magic the Gathering\, grab your Commander deck and stop by! There will be some MtG players sharing space with us.\nMust be 21 or older to participate\, please bring a valid ID.
URL:https://barxiii.com/e/tavern-13-dungeon-and-dragons-w-magic-the-gathering-8/
LOCATION:Bar XIII\, 1706 Philadelphia Pike\, Wilmington\, DE\, 19809\, United States
CATEGORIES:DnD
ATTACH;FMTTYPE=image/jpeg:https://barxiii.com/wp-content/uploads/2025/08/tavern-13-DnD.jpg
END:VEVENT
BEGIN:VEVENT
DTSTART;TZID=America/New_York:20260525T210000
DTEND;TZID=America/New_York:20260525T210000
DTSTAMP:20260425T194414
CREATED:20260422T234146Z
LAST-MODIFIED:20260422T234146Z
UID:3845-1779742800-1779742800@barxiii.com
SUMMARY:Karaoke
DESCRIPTION:🎤 Monday Night Karaoke at Bar XIII! 🎶 \nKick off your week with a night of fun\, music\, and singing your heart out! Whether you’re a seasoned performer or just want to belt it out for the fun of it\, Karaoke Night is always a blast at Bar XIII. \n🗓️ Every Monday Night\n⏰ 9PM to 1AM\n🎟️ No Cover | 21+ with ID\n🚗 Free Parking \n🍹 Drink Specials: \n\n$5 Margaritas\n$6 Mules\n$6 Green Tea Shots\n\n🍗 Food: Truck 13 will be open from 6 PM to 12 AM! Don’t miss $1 wings from 6 PM to 8 PM 🖤 \n🍺 Happy Hour: 6 PM – 8 PM\nEnjoy $3 beers\, $4 mixed drinks/shots\, and half-off all craft beers! \n🎵 Find us on Untappd: https://untappd.com/v/bar-xiii/4547918 \nFollow Bar XIII Delaware on Facebook or check out our website for more events and updates. Let’s make Monday night unforgettable! 🎉
URL:https://barxiii.com/e/karaoke-81/
LOCATION:Bar XIII\, 1706 Philadelphia Pike\, Wilmington\, DE\, 19809\, United States
CATEGORIES:karaoke
ATTACH;FMTTYPE=image/jpeg:https://barxiii.com/wp-content/uploads/2025/05/01-Monday-karaoke-ig.jpg
END:VEVENT
BEGIN:VEVENT
DTSTART;TZID=America/New_York:20260526T200000
DTEND;TZID=America/New_York:20260526T200000
DTSTAMP:20260425T194414
CREATED:20260422T234505Z
LAST-MODIFIED:20260422T234505Z
UID:3849-1779825600-1779825600@barxiii.com
SUMMARY:Dirty Sexy Bingo
DESCRIPTION:Every Tuesday Night� Starts NOW AT 8 PM (get here early for a seat!)� | 21+ with ID� Free parking for all you filthy animals A drink at the bar = free bingo cards.� Win a round\, and you’re walking away with a toy to keep you (or your partner) busy long after the balls stop rolling.\nKARAOKE NOW FOLLOWING BINGO! Starting at 11!\n Truck 13 keeps you fueled from 7 PM – midnight.� Happy Hour 6–8 PM: $3 beers\, $4 shots/mixed drinks\, half-off crafts.Come for the chaos\, stay for the debauchery.�This isn’t just bingo—it’s foreplay with numbers. \n Follow Bar XIII Delaware on Facebook or Instagram for more sinful events!
URL:https://barxiii.com/e/dirty-sexy-bingo-149/
LOCATION:Bar XIII\, 1706 Philadelphia Pike\, Wilmington\, DE\, 19809\, United States
CATEGORIES:bingo
ATTACH;FMTTYPE=image/jpeg:https://barxiii.com/wp-content/uploads/2025/08/dirty-sexy-bingo-Jenn-square.jpg
END:VEVENT
BEGIN:VEVENT
DTSTART;TZID=America/New_York:20260527T203000
DTEND;TZID=America/New_York:20260527T203000
DTSTAMP:20260425T194414
CREATED:20260422T234719Z
LAST-MODIFIED:20260422T234719Z
UID:3853-1779913800-1779913800@barxiii.com
SUMMARY:Comedy Open Mic Night + Classic Video Games
DESCRIPTION:Comedy Open Mic Night + Classic Video Games at Bar XIII! 🎤🎮\nGet ready for a night full of laughs and retro fun at Bar XIII! Whether you’re an aspiring comedian\, a seasoned pro\, or just in the mood for some great entertainment\, this is your chance to experience comedy like never before. And after the laughs\, stick around for classic video games on the big screen—because nothing pairs better with comedy than nostalgia! \n📅 When: \n\nSign-ups at 8:30 PM\nMic goes live at 9:00 PM\n\n🎤 Host: Fenris\nHave questions or want to reserve your spot in advance? Email: fenristwins@yahoo.com \n✨ Details: \n\nNo cover\n21+ with ID\nPlenty of free parking\n\n🍹 Happy Hour: 6 PM–8 PM \n\n$3 beers\n$4 mixed drinks/shots\nHalf-off all craft beers\n\n🎮 After the jokes\, relive your gaming glory days with classic video games on the big screen! \nFollow Bar XIII Delaware on Facebook and check us out on Untappd: https://untappd.com/v/bar-xiii/4547918 \nBar XIII: Where comedy meets classic gaming for a night you won’t forget!
URL:https://barxiii.com/e/comedy-open-mic-night-classic-video-games-71/
LOCATION:Bar XIII\, 1706 Philadelphia Pike\, Wilmington\, DE\, 19809\, United States
CATEGORIES:comedy,open mic
ATTACH;FMTTYPE=image/jpeg:https://barxiii.com/wp-content/uploads/2025/05/03-Wednesday-Comedy-ig.jpg
END:VEVENT
BEGIN:VEVENT
DTSTART;TZID=America/New_York:20260528T210000
DTEND;TZID=America/New_York:20260528T210000
DTSTAMP:20260425T194414
CREATED:20260423T002049Z
LAST-MODIFIED:20260423T002049Z
UID:3882-1780002000-1780002000@barxiii.com
SUMMARY:Asylum 13 Presents  DJ Brad Scott and DJ baby Berlin
DESCRIPTION:🎶 Step into the darkness every Thursday night at the Asylum 13 Dark Beats Dance Party! 🎶 \nImmerse yourself in a high-energy atmosphere with rotating DJs spinning the best in Goth\, Industrial\, and Darkwave music to keep you moving all night long. \n💀 Details:\nCover: $10\n21+ with ID\nFree Parking \nTruck 13 serving delicious eats from 7 PM to 1 AM \nHappy Hour (6 PM – 8 PM): \n\n\n\n$3 beers\n$4 mixed drinks/shots\nHalf off all craft beers!\n\n\n\n🍺 Find us on Untappd: Bar XIII on Untappd \n🎉 Stay connected! \n\nFollow Bar XIII Delaware on Facebook for the latest events and updates\nJoin the Asylum 13 Facebook Group: Asylum 13 Inmates\n\n\nhttp://barxiii.com/asylum13/
URL:https://barxiii.com/e/asylum-13-presents-dj-brad-scott-and-dj-baby-berlin-4/
LOCATION:Bar XIII\, 1706 Philadelphia Pike\, Wilmington\, DE\, 19809\, United States
CATEGORIES:dance,goth,industrial,kink,synthpop
ATTACH;FMTTYPE=image/jpeg:https://barxiii.com/wp-content/uploads/2024/05/Asylum-ig.jpeg
END:VEVENT
BEGIN:VEVENT
DTSTART;TZID=America/New_York:20260529T210000
DTEND;TZID=America/New_York:20260529T210000
DTSTAMP:20260425T194414
CREATED:20260423T002304Z
LAST-MODIFIED:20260423T002304Z
UID:3883-1780088400-1780088400@barxiii.com
SUMMARY:So Much for Snoozing
DESCRIPTION:Get ready for a night where the vibes are smooth\, the energy is high\, and sleep is definitely not on the agenda…\nSo Much For Snoozing: Ultimate R&B Pajama Party is taking over Bar XIII on May 29th\, bringing you nothing but the best in slow jams\, sultry beats\, and late-night energy.\n\nSlip into your finest silk and satin\, grab your crew\, and step into a night designed for grown\, sexy fun. Whether you’re dancing\, sipping\, or just soaking in the atmosphere\, this is where comfort meets nightlife in the best way possible.\n\n Music by BKS (Best Kept Soul) – delivering nonstop R&B vibes all night Dress Code: Pajamas encouraged – think sexy\, stylish\, and lounge-ready Full bar & signature vibes at one of Delaware’s favorite nightlife spots\n\n Bar XIII1706 Philadelphia Pike\n Thursday\, May 29th 9PM – 12AM $15 Admission\n\nSilk. Satin. Slow Jams. No sleeping allowed.\nDon’t miss the ultimate pajama party experience—this is the kind of night you’ll wish never ended
URL:https://barxiii.com/e/so-much-for-snoozing/
LOCATION:Bar XIII\, 1706 Philadelphia Pike\, Wilmington\, DE\, 19809\, United States
CATEGORIES:featured,R&B
ATTACH;FMTTYPE=image/jpeg:https://barxiii.com/wp-content/uploads/2026/04/So-Much-for-Snoozing.jpg
END:VEVENT
BEGIN:VEVENT
DTSTART;TZID=America/New_York:20260530T183000
DTEND;TZID=America/New_York:20260530T183000
DTSTAMP:20260425T194414
CREATED:20260403T151921Z
LAST-MODIFIED:20260403T151921Z
UID:3833-1780165800-1780165800@barxiii.com
SUMMARY:Demonic SymphonicFest II
DESCRIPTION:Demonic SymphonicFest returns to Bar XIII in Wilmington\, DE\nDoors at 6Show at 6:3021+Tickets $25 at the door\, $20 in advance\nA Sound of Thunderhttps://www.youtube.com/watch?v=7XGnASM_RcM\nIATThttps://www.youtube.com/watch?v=2PpPbdWEAM0\nMalphashttps://www.youtube.com/watch?v=bn9p_a7fsNg\nZeke Skyhttps://www.youtube.com/watch?v=DX-WIm2HAZc\nIce Gianthttps://www.youtube.com/watch?v=VvmkCxDfdHI\nSkullovichhttps://www.youtube.com/watch?v=UvALj3TF8m4\nSmokeborn Blasphemyhttps://www.youtube.com/watch?v=UiIUtOVdKeE
URL:https://barxiii.com/e/demonic-symphonicfest-ii-2/
LOCATION:Bar XIII\, 1706 Philadelphia Pike\, Wilmington\, DE\, 19809\, United States
CATEGORIES:featured,metal
ATTACH;FMTTYPE=image/jpeg:https://barxiii.com/wp-content/uploads/2026/04/demonic.jpg
END:VEVENT
BEGIN:VEVENT
DTSTART;TZID=America/New_York:20260531T123000
DTEND;TZID=America/New_York:20260531T180000
DTSTAMP:20260425T194414
CREATED:20260423T002543Z
LAST-MODIFIED:20260423T002543Z
UID:3885-1780230600-1780250400@barxiii.com
SUMMARY:Market XIII & Truck 13 Flea Market and 2nd Annual Bake-Off 2026
DESCRIPTION:Market XIII & Truck 13 Spring Flea Market & 2nd Annual Bake-Off\nLocation: Bar XIII Delaware – 1706 Philadelphia Pike\, Wilmington\, DE 19809Date: Sunday\, February 15\, 2026Time: Flea Market: 12:30 PM – 6:00 PM | Bake-Off Competition: 2-4pm Admission: Free to attend | $5 to judge the Bake-Off21+ w/ valid ID\n\nJoin us at Bar XIII Delaware for a community-driven day celebrating local talent\, bold bites\, and good vibes at the Market XIII & Truck 13 Spring Flea Market and Bake-Off Competition! Shop\, sip\, and sample your way through an event that blends artisan goods with delicious treats.\n\n Flea Market Finds:Browse an indoor and outdoor flea market featuring unique vendors\, handmade jewelry\, original artwork\, clothing\, local treats\, and more. Support local artists and makers while discovering one-of-a-kind finds.\n Truck 13 Onsite Eats:Come hungry—Truck 13 will be open from 12:30pm-5pm serving smashburgers\, fries\, chicken fingers\, appetizers\, snacks\, and more.\n Bake-Off Competition:From 2pm-4pm is our second annual baking competition! Sample a variety of homemade treats and help crown the best in town. Judging is just $5\, and your vote counts.\n Bar XIII Open for Drinks:The bar will be open all day\, serving beer\, cocktails\, mocktails\, and drinks to keep the good times flowing.\n Vendor Info: Contact D’arcey Ruff Bake-Off Info: Contact Kim McBrearty\nThis event is free to attend\, community-focused\, and perfect for a laid-back day out. Eat\, sip\, shop\, and support local at Bar XIII Delaware—we’ll see you there!
URL:https://barxiii.com/e/market-xiii-truck-13-flea-market-and-2nd-annual-bake-off-2026/
LOCATION:Bar XIII\, 1706 Philadelphia Pike\, Wilmington\, DE\, 19809\, United States
CATEGORIES:featured,flea market
ATTACH;FMTTYPE=image/jpeg:https://barxiii.com/wp-content/uploads/2026/04/Flea-Market.jpg
END:VEVENT
END:VCALENDAR