BEGIN:VCALENDAR
VERSION:2.0
PRODID:-//Bar XIII - ECPv6.15.20//NONSGML v1.0//EN
CALSCALE:GREGORIAN
METHOD:PUBLISH
X-WR-CALNAME:Bar XIII
X-ORIGINAL-URL:https://barxiii.com
X-WR-CALDESC:Events for Bar XIII
REFRESH-INTERVAL;VALUE=DURATION:PT1H
X-Robots-Tag:noindex
X-PUBLISHED-TTL:PT1H
BEGIN:VTIMEZONE
TZID:America/New_York
BEGIN:DAYLIGHT
TZOFFSETFROM:-0500
TZOFFSETTO:-0400
TZNAME:EDT
DTSTART:20240310T070000
END:DAYLIGHT
BEGIN:STANDARD
TZOFFSETFROM:-0400
TZOFFSETTO:-0500
TZNAME:EST
DTSTART:20241103T060000
END:STANDARD
BEGIN:DAYLIGHT
TZOFFSETFROM:-0500
TZOFFSETTO:-0400
TZNAME:EDT
DTSTART:20250309T070000
END:DAYLIGHT
BEGIN:STANDARD
TZOFFSETFROM:-0400
TZOFFSETTO:-0500
TZNAME:EST
DTSTART:20251102T060000
END:STANDARD
BEGIN:DAYLIGHT
TZOFFSETFROM:-0500
TZOFFSETTO:-0400
TZNAME:EDT
DTSTART:20260308T070000
END:DAYLIGHT
BEGIN:STANDARD
TZOFFSETFROM:-0400
TZOFFSETTO:-0500
TZNAME:EST
DTSTART:20261101T060000
END:STANDARD
END:VTIMEZONE
BEGIN:VEVENT
DTSTART;TZID=America/New_York:20250110T190000
DTEND;TZID=America/New_York:20250110T190000
DTSTAMP:20260421T060217
CREATED:20241219T030222Z
LAST-MODIFIED:20250103T225713Z
UID:2959-1736535600-1736535600@barxiii.com
SUMMARY:Deadsville Pop Punk Party 25
DESCRIPTION:Our FIRST Pop Punk Party of the year!!!!\nJOIN US for all your favorite Warped Tour hits\, featuring DJ Butterbean spinning 90’s and 2000s emo and pop punk all night\, with 2 LIVE SETS from Delawares own THE ACTUAL!!!!!\n$10 cover$2 PBR talls till 10pm21+Doors 7pmMusic 8pm
URL:https://barxiii.com/e/deadsville-pop-punk-party-25/
LOCATION:Bar XIII\, 1706 Philadelphia Pike\, Wilmington\, DE\, 19809\, United States
CATEGORIES:dance,Emo,featured,punk
ATTACH;FMTTYPE=image/png:https://barxiii.com/wp-content/uploads/2024/12/01.10-IG.png
END:VEVENT
END:VCALENDAR