BEGIN:VCALENDAR
VERSION:2.0
PRODID:-//Bar XIII - ECPv6.15.20//NONSGML v1.0//EN
CALSCALE:GREGORIAN
METHOD:PUBLISH
X-WR-CALNAME:Bar XIII
X-ORIGINAL-URL:https://barxiii.com
X-WR-CALDESC:Events for Bar XIII
REFRESH-INTERVAL;VALUE=DURATION:PT1H
X-Robots-Tag:noindex
X-PUBLISHED-TTL:PT1H
BEGIN:VTIMEZONE
TZID:America/New_York
BEGIN:DAYLIGHT
TZOFFSETFROM:-0500
TZOFFSETTO:-0400
TZNAME:EDT
DTSTART:20250309T070000
END:DAYLIGHT
BEGIN:STANDARD
TZOFFSETFROM:-0400
TZOFFSETTO:-0500
TZNAME:EST
DTSTART:20251102T060000
END:STANDARD
BEGIN:DAYLIGHT
TZOFFSETFROM:-0500
TZOFFSETTO:-0400
TZNAME:EDT
DTSTART:20260308T070000
END:DAYLIGHT
BEGIN:STANDARD
TZOFFSETFROM:-0400
TZOFFSETTO:-0500
TZNAME:EST
DTSTART:20261101T060000
END:STANDARD
BEGIN:DAYLIGHT
TZOFFSETFROM:-0500
TZOFFSETTO:-0400
TZNAME:EDT
DTSTART:20270314T070000
END:DAYLIGHT
BEGIN:STANDARD
TZOFFSETFROM:-0400
TZOFFSETTO:-0500
TZNAME:EST
DTSTART:20271107T060000
END:STANDARD
END:VTIMEZONE
BEGIN:VEVENT
DTSTART;TZID=America/New_York:20260304T203000
DTEND;TZID=America/New_York:20260304T203000
DTSTAMP:20260424T031528
CREATED:20260218T172218Z
LAST-MODIFIED:20260218T172218Z
UID:3737-1772656200-1772656200@barxiii.com
SUMMARY:Comedy Open Mic Night + Classic Video Games
DESCRIPTION:Comedy Open Mic Night + Classic Video Games at Bar XIII! 🎤🎮\nGet ready for a night full of laughs and retro fun at Bar XIII! Whether you’re an aspiring comedian\, a seasoned pro\, or just in the mood for some great entertainment\, this is your chance to experience comedy like never before. And after the laughs\, stick around for classic video games on the big screen—because nothing pairs better with comedy than nostalgia! \n📅 When: \n\nSign-ups at 8:30 PM\nMic goes live at 9:00 PM\n\n🎤 Host: Fenris\nHave questions or want to reserve your spot in advance? Email: fenristwins@yahoo.com \n✨ Details: \n\nNo cover\n21+ with ID\nPlenty of free parking\n\n🍹 Happy Hour: 6 PM–8 PM \n\n$3 beers\n$4 mixed drinks/shots\nHalf-off all craft beers\n\n🎮 After the jokes\, relive your gaming glory days with classic video games on the big screen! \nFollow Bar XIII Delaware on Facebook and check us out on Untappd: https://untappd.com/v/bar-xiii/4547918 \nBar XIII: Where comedy meets classic gaming for a night you won’t forget!
URL:https://barxiii.com/e/comedy-open-mic-night-classic-video-games-59/
LOCATION:Bar XIII\, 1706 Philadelphia Pike\, Wilmington\, DE\, 19809\, United States
CATEGORIES:comedy,open mic
ATTACH;FMTTYPE=image/jpeg:https://barxiii.com/wp-content/uploads/2025/05/03-Wednesday-Comedy-ig.jpg
END:VEVENT
BEGIN:VEVENT
DTSTART;TZID=America/New_York:20260311T203000
DTEND;TZID=America/New_York:20260311T203000
DTSTAMP:20260424T031528
CREATED:20260218T172304Z
LAST-MODIFIED:20260218T172304Z
UID:3738-1773261000-1773261000@barxiii.com
SUMMARY:Comedy Open Mic Night + Classic Video Games
DESCRIPTION:Comedy Open Mic Night + Classic Video Games at Bar XIII! 🎤🎮\nGet ready for a night full of laughs and retro fun at Bar XIII! Whether you’re an aspiring comedian\, a seasoned pro\, or just in the mood for some great entertainment\, this is your chance to experience comedy like never before. And after the laughs\, stick around for classic video games on the big screen—because nothing pairs better with comedy than nostalgia! \n📅 When: \n\nSign-ups at 8:30 PM\nMic goes live at 9:00 PM\n\n🎤 Host: Fenris\nHave questions or want to reserve your spot in advance? Email: fenristwins@yahoo.com \n✨ Details: \n\nNo cover\n21+ with ID\nPlenty of free parking\n\n🍹 Happy Hour: 6 PM–8 PM \n\n$3 beers\n$4 mixed drinks/shots\nHalf-off all craft beers\n\n🎮 After the jokes\, relive your gaming glory days with classic video games on the big screen! \nFollow Bar XIII Delaware on Facebook and check us out on Untappd: https://untappd.com/v/bar-xiii/4547918 \nBar XIII: Where comedy meets classic gaming for a night you won’t forget!
URL:https://barxiii.com/e/comedy-open-mic-night-classic-video-games-60/
LOCATION:Bar XIII\, 1706 Philadelphia Pike\, Wilmington\, DE\, 19809\, United States
CATEGORIES:comedy,open mic
ATTACH;FMTTYPE=image/jpeg:https://barxiii.com/wp-content/uploads/2025/05/03-Wednesday-Comedy-ig.jpg
END:VEVENT
BEGIN:VEVENT
DTSTART;TZID=America/New_York:20260318T203000
DTEND;TZID=America/New_York:20260318T203000
DTSTAMP:20260424T031528
CREATED:20260218T172358Z
LAST-MODIFIED:20260218T172358Z
UID:3739-1773865800-1773865800@barxiii.com
SUMMARY:Comedy Open Mic Night + Classic Video Games
DESCRIPTION:Comedy Open Mic Night + Classic Video Games at Bar XIII! 🎤🎮\nGet ready for a night full of laughs and retro fun at Bar XIII! Whether you’re an aspiring comedian\, a seasoned pro\, or just in the mood for some great entertainment\, this is your chance to experience comedy like never before. And after the laughs\, stick around for classic video games on the big screen—because nothing pairs better with comedy than nostalgia! \n📅 When: \n\nSign-ups at 8:30 PM\nMic goes live at 9:00 PM\n\n🎤 Host: Fenris\nHave questions or want to reserve your spot in advance? Email: fenristwins@yahoo.com \n✨ Details: \n\nNo cover\n21+ with ID\nPlenty of free parking\n\n🍹 Happy Hour: 6 PM–8 PM \n\n$3 beers\n$4 mixed drinks/shots\nHalf-off all craft beers\n\n🎮 After the jokes\, relive your gaming glory days with classic video games on the big screen! \nFollow Bar XIII Delaware on Facebook and check us out on Untappd: https://untappd.com/v/bar-xiii/4547918 \nBar XIII: Where comedy meets classic gaming for a night you won’t forget!
URL:https://barxiii.com/e/comedy-open-mic-night-classic-video-games-61/
LOCATION:Bar XIII\, 1706 Philadelphia Pike\, Wilmington\, DE\, 19809\, United States
CATEGORIES:comedy,open mic
ATTACH;FMTTYPE=image/jpeg:https://barxiii.com/wp-content/uploads/2025/05/03-Wednesday-Comedy-ig.jpg
END:VEVENT
BEGIN:VEVENT
DTSTART;TZID=America/New_York:20260325T203000
DTEND;TZID=America/New_York:20260325T203000
DTSTAMP:20260424T031528
CREATED:20260218T172445Z
LAST-MODIFIED:20260218T172445Z
UID:3740-1774470600-1774470600@barxiii.com
SUMMARY:Comedy Open Mic Night + Classic Video Games
DESCRIPTION:Comedy Open Mic Night + Classic Video Games at Bar XIII! 🎤🎮\nGet ready for a night full of laughs and retro fun at Bar XIII! Whether you’re an aspiring comedian\, a seasoned pro\, or just in the mood for some great entertainment\, this is your chance to experience comedy like never before. And after the laughs\, stick around for classic video games on the big screen—because nothing pairs better with comedy than nostalgia! \n📅 When: \n\nSign-ups at 8:30 PM\nMic goes live at 9:00 PM\n\n🎤 Host: Fenris\nHave questions or want to reserve your spot in advance? Email: fenristwins@yahoo.com \n✨ Details: \n\nNo cover\n21+ with ID\nPlenty of free parking\n\n🍹 Happy Hour: 6 PM–8 PM \n\n$3 beers\n$4 mixed drinks/shots\nHalf-off all craft beers\n\n🎮 After the jokes\, relive your gaming glory days with classic video games on the big screen! \nFollow Bar XIII Delaware on Facebook and check us out on Untappd: https://untappd.com/v/bar-xiii/4547918 \nBar XIII: Where comedy meets classic gaming for a night you won’t forget!
URL:https://barxiii.com/e/comedy-open-mic-night-classic-video-games-62/
LOCATION:Bar XIII\, 1706 Philadelphia Pike\, Wilmington\, DE\, 19809\, United States
CATEGORIES:comedy,open mic
ATTACH;FMTTYPE=image/jpeg:https://barxiii.com/wp-content/uploads/2025/05/03-Wednesday-Comedy-ig.jpg
END:VEVENT
BEGIN:VEVENT
DTSTART;TZID=America/New_York:20260401T203000
DTEND;TZID=America/New_York:20260401T203000
DTSTAMP:20260424T031528
CREATED:20260319T194344Z
LAST-MODIFIED:20260319T194344Z
UID:3787-1775075400-1775075400@barxiii.com
SUMMARY:Comedy Open Mic Night + Classic Video Games
DESCRIPTION:Comedy Open Mic Night + Classic Video Games at Bar XIII! 🎤🎮\nGet ready for a night full of laughs and retro fun at Bar XIII! Whether you’re an aspiring comedian\, a seasoned pro\, or just in the mood for some great entertainment\, this is your chance to experience comedy like never before. And after the laughs\, stick around for classic video games on the big screen—because nothing pairs better with comedy than nostalgia! \n📅 When: \n\nSign-ups at 8:30 PM\nMic goes live at 9:00 PM\n\n🎤 Host: Fenris\nHave questions or want to reserve your spot in advance? Email: fenristwins@yahoo.com \n✨ Details: \n\nNo cover\n21+ with ID\nPlenty of free parking\n\n🍹 Happy Hour: 6 PM–8 PM \n\n$3 beers\n$4 mixed drinks/shots\nHalf-off all craft beers\n\n🎮 After the jokes\, relive your gaming glory days with classic video games on the big screen! \nFollow Bar XIII Delaware on Facebook and check us out on Untappd: https://untappd.com/v/bar-xiii/4547918 \nBar XIII: Where comedy meets classic gaming for a night you won’t forget!
URL:https://barxiii.com/e/comedy-open-mic-night-classic-video-games-63/
LOCATION:Bar XIII\, 1706 Philadelphia Pike\, Wilmington\, DE\, 19809\, United States
CATEGORIES:comedy,open mic
ATTACH;FMTTYPE=image/jpeg:https://barxiii.com/wp-content/uploads/2025/05/03-Wednesday-Comedy-ig.jpg
END:VEVENT
BEGIN:VEVENT
DTSTART;TZID=America/New_York:20260408T203000
DTEND;TZID=America/New_York:20260408T203000
DTSTAMP:20260424T031528
CREATED:20260319T194429Z
LAST-MODIFIED:20260319T194429Z
UID:3788-1775680200-1775680200@barxiii.com
SUMMARY:Comedy Open Mic Night + Classic Video Games
DESCRIPTION:Comedy Open Mic Night + Classic Video Games at Bar XIII! 🎤🎮\nGet ready for a night full of laughs and retro fun at Bar XIII! Whether you’re an aspiring comedian\, a seasoned pro\, or just in the mood for some great entertainment\, this is your chance to experience comedy like never before. And after the laughs\, stick around for classic video games on the big screen—because nothing pairs better with comedy than nostalgia! \n📅 When: \n\nSign-ups at 8:30 PM\nMic goes live at 9:00 PM\n\n🎤 Host: Fenris\nHave questions or want to reserve your spot in advance? Email: fenristwins@yahoo.com \n✨ Details: \n\nNo cover\n21+ with ID\nPlenty of free parking\n\n🍹 Happy Hour: 6 PM–8 PM \n\n$3 beers\n$4 mixed drinks/shots\nHalf-off all craft beers\n\n🎮 After the jokes\, relive your gaming glory days with classic video games on the big screen! \nFollow Bar XIII Delaware on Facebook and check us out on Untappd: https://untappd.com/v/bar-xiii/4547918 \nBar XIII: Where comedy meets classic gaming for a night you won’t forget!
URL:https://barxiii.com/e/comedy-open-mic-night-classic-video-games-64/
LOCATION:Bar XIII\, 1706 Philadelphia Pike\, Wilmington\, DE\, 19809\, United States
CATEGORIES:comedy,open mic
ATTACH;FMTTYPE=image/jpeg:https://barxiii.com/wp-content/uploads/2025/05/03-Wednesday-Comedy-ig.jpg
END:VEVENT
BEGIN:VEVENT
DTSTART;TZID=America/New_York:20260415T203000
DTEND;TZID=America/New_York:20260415T203000
DTSTAMP:20260424T031528
CREATED:20260319T194506Z
LAST-MODIFIED:20260319T194506Z
UID:3789-1776285000-1776285000@barxiii.com
SUMMARY:Comedy Open Mic Night + Classic Video Games
DESCRIPTION:Comedy Open Mic Night + Classic Video Games at Bar XIII! 🎤🎮\nGet ready for a night full of laughs and retro fun at Bar XIII! Whether you’re an aspiring comedian\, a seasoned pro\, or just in the mood for some great entertainment\, this is your chance to experience comedy like never before. And after the laughs\, stick around for classic video games on the big screen—because nothing pairs better with comedy than nostalgia! \n📅 When: \n\nSign-ups at 8:30 PM\nMic goes live at 9:00 PM\n\n🎤 Host: Fenris\nHave questions or want to reserve your spot in advance? Email: fenristwins@yahoo.com \n✨ Details: \n\nNo cover\n21+ with ID\nPlenty of free parking\n\n🍹 Happy Hour: 6 PM–8 PM \n\n$3 beers\n$4 mixed drinks/shots\nHalf-off all craft beers\n\n🎮 After the jokes\, relive your gaming glory days with classic video games on the big screen! \nFollow Bar XIII Delaware on Facebook and check us out on Untappd: https://untappd.com/v/bar-xiii/4547918 \nBar XIII: Where comedy meets classic gaming for a night you won’t forget!
URL:https://barxiii.com/e/comedy-open-mic-night-classic-video-games-65/
LOCATION:Bar XIII\, 1706 Philadelphia Pike\, Wilmington\, DE\, 19809\, United States
CATEGORIES:comedy,open mic
ATTACH;FMTTYPE=image/jpeg:https://barxiii.com/wp-content/uploads/2025/05/03-Wednesday-Comedy-ig.jpg
END:VEVENT
BEGIN:VEVENT
DTSTART;TZID=America/New_York:20260422T203000
DTEND;TZID=America/New_York:20260422T203000
DTSTAMP:20260424T031528
CREATED:20260319T194548Z
LAST-MODIFIED:20260319T194548Z
UID:3790-1776889800-1776889800@barxiii.com
SUMMARY:Comedy Open Mic Night + Classic Video Games
DESCRIPTION:Comedy Open Mic Night + Classic Video Games at Bar XIII! 🎤🎮\nGet ready for a night full of laughs and retro fun at Bar XIII! Whether you’re an aspiring comedian\, a seasoned pro\, or just in the mood for some great entertainment\, this is your chance to experience comedy like never before. And after the laughs\, stick around for classic video games on the big screen—because nothing pairs better with comedy than nostalgia! \n📅 When: \n\nSign-ups at 8:30 PM\nMic goes live at 9:00 PM\n\n🎤 Host: Fenris\nHave questions or want to reserve your spot in advance? Email: fenristwins@yahoo.com \n✨ Details: \n\nNo cover\n21+ with ID\nPlenty of free parking\n\n🍹 Happy Hour: 6 PM–8 PM \n\n$3 beers\n$4 mixed drinks/shots\nHalf-off all craft beers\n\n🎮 After the jokes\, relive your gaming glory days with classic video games on the big screen! \nFollow Bar XIII Delaware on Facebook and check us out on Untappd: https://untappd.com/v/bar-xiii/4547918 \nBar XIII: Where comedy meets classic gaming for a night you won’t forget!
URL:https://barxiii.com/e/comedy-open-mic-night-classic-video-games-66/
LOCATION:Bar XIII\, 1706 Philadelphia Pike\, Wilmington\, DE\, 19809\, United States
CATEGORIES:comedy,open mic
ATTACH;FMTTYPE=image/jpeg:https://barxiii.com/wp-content/uploads/2025/05/03-Wednesday-Comedy-ig.jpg
END:VEVENT
BEGIN:VEVENT
DTSTART;TZID=America/New_York:20260429T203000
DTEND;TZID=America/New_York:20260429T203000
DTSTAMP:20260424T031528
CREATED:20260319T194616Z
LAST-MODIFIED:20260319T194616Z
UID:3791-1777494600-1777494600@barxiii.com
SUMMARY:Comedy Open Mic Night + Classic Video Games
DESCRIPTION:Comedy Open Mic Night + Classic Video Games at Bar XIII! 🎤🎮\nGet ready for a night full of laughs and retro fun at Bar XIII! Whether you’re an aspiring comedian\, a seasoned pro\, or just in the mood for some great entertainment\, this is your chance to experience comedy like never before. And after the laughs\, stick around for classic video games on the big screen—because nothing pairs better with comedy than nostalgia! \n📅 When: \n\nSign-ups at 8:30 PM\nMic goes live at 9:00 PM\n\n🎤 Host: Fenris\nHave questions or want to reserve your spot in advance? Email: fenristwins@yahoo.com \n✨ Details: \n\nNo cover\n21+ with ID\nPlenty of free parking\n\n🍹 Happy Hour: 6 PM–8 PM \n\n$3 beers\n$4 mixed drinks/shots\nHalf-off all craft beers\n\n🎮 After the jokes\, relive your gaming glory days with classic video games on the big screen! \nFollow Bar XIII Delaware on Facebook and check us out on Untappd: https://untappd.com/v/bar-xiii/4547918 \nBar XIII: Where comedy meets classic gaming for a night you won’t forget!
URL:https://barxiii.com/e/comedy-open-mic-night-classic-video-games-67/
LOCATION:Bar XIII\, 1706 Philadelphia Pike\, Wilmington\, DE\, 19809\, United States
CATEGORIES:comedy,open mic
ATTACH;FMTTYPE=image/jpeg:https://barxiii.com/wp-content/uploads/2025/05/03-Wednesday-Comedy-ig.jpg
END:VEVENT
BEGIN:VEVENT
DTSTART;TZID=America/New_York:20260506T203000
DTEND;TZID=America/New_York:20260506T203000
DTSTAMP:20260424T031528
CREATED:20260422T234537Z
LAST-MODIFIED:20260422T234537Z
UID:3850-1778099400-1778099400@barxiii.com
SUMMARY:Comedy Open Mic Night + Classic Video Games
DESCRIPTION:Comedy Open Mic Night + Classic Video Games at Bar XIII! 🎤🎮\nGet ready for a night full of laughs and retro fun at Bar XIII! Whether you’re an aspiring comedian\, a seasoned pro\, or just in the mood for some great entertainment\, this is your chance to experience comedy like never before. And after the laughs\, stick around for classic video games on the big screen—because nothing pairs better with comedy than nostalgia! \n📅 When: \n\nSign-ups at 8:30 PM\nMic goes live at 9:00 PM\n\n🎤 Host: Fenris\nHave questions or want to reserve your spot in advance? Email: fenristwins@yahoo.com \n✨ Details: \n\nNo cover\n21+ with ID\nPlenty of free parking\n\n🍹 Happy Hour: 6 PM–8 PM \n\n$3 beers\n$4 mixed drinks/shots\nHalf-off all craft beers\n\n🎮 After the jokes\, relive your gaming glory days with classic video games on the big screen! \nFollow Bar XIII Delaware on Facebook and check us out on Untappd: https://untappd.com/v/bar-xiii/4547918 \nBar XIII: Where comedy meets classic gaming for a night you won’t forget!
URL:https://barxiii.com/e/comedy-open-mic-night-classic-video-games-68/
LOCATION:Bar XIII\, 1706 Philadelphia Pike\, Wilmington\, DE\, 19809\, United States
CATEGORIES:comedy,open mic
ATTACH;FMTTYPE=image/jpeg:https://barxiii.com/wp-content/uploads/2025/05/03-Wednesday-Comedy-ig.jpg
END:VEVENT
BEGIN:VEVENT
DTSTART;TZID=America/New_York:20260513T203000
DTEND;TZID=America/New_York:20260513T203000
DTSTAMP:20260424T031528
CREATED:20260422T234624Z
LAST-MODIFIED:20260422T234624Z
UID:3851-1778704200-1778704200@barxiii.com
SUMMARY:Comedy Open Mic Night + Classic Video Games
DESCRIPTION:Comedy Open Mic Night + Classic Video Games at Bar XIII! 🎤🎮\nGet ready for a night full of laughs and retro fun at Bar XIII! Whether you’re an aspiring comedian\, a seasoned pro\, or just in the mood for some great entertainment\, this is your chance to experience comedy like never before. And after the laughs\, stick around for classic video games on the big screen—because nothing pairs better with comedy than nostalgia! \n📅 When: \n\nSign-ups at 8:30 PM\nMic goes live at 9:00 PM\n\n🎤 Host: Fenris\nHave questions or want to reserve your spot in advance? Email: fenristwins@yahoo.com \n✨ Details: \n\nNo cover\n21+ with ID\nPlenty of free parking\n\n🍹 Happy Hour: 6 PM–8 PM \n\n$3 beers\n$4 mixed drinks/shots\nHalf-off all craft beers\n\n🎮 After the jokes\, relive your gaming glory days with classic video games on the big screen! \nFollow Bar XIII Delaware on Facebook and check us out on Untappd: https://untappd.com/v/bar-xiii/4547918 \nBar XIII: Where comedy meets classic gaming for a night you won’t forget!
URL:https://barxiii.com/e/comedy-open-mic-night-classic-video-games-69/
LOCATION:Bar XIII\, 1706 Philadelphia Pike\, Wilmington\, DE\, 19809\, United States
CATEGORIES:comedy,open mic
ATTACH;FMTTYPE=image/jpeg:https://barxiii.com/wp-content/uploads/2025/05/03-Wednesday-Comedy-ig.jpg
END:VEVENT
BEGIN:VEVENT
DTSTART;TZID=America/New_York:20260520T203000
DTEND;TZID=America/New_York:20260520T203000
DTSTAMP:20260424T031528
CREATED:20260422T234655Z
LAST-MODIFIED:20260422T234655Z
UID:3852-1779309000-1779309000@barxiii.com
SUMMARY:Comedy Open Mic Night + Classic Video Games
DESCRIPTION:Comedy Open Mic Night + Classic Video Games at Bar XIII! 🎤🎮\nGet ready for a night full of laughs and retro fun at Bar XIII! Whether you’re an aspiring comedian\, a seasoned pro\, or just in the mood for some great entertainment\, this is your chance to experience comedy like never before. And after the laughs\, stick around for classic video games on the big screen—because nothing pairs better with comedy than nostalgia! \n📅 When: \n\nSign-ups at 8:30 PM\nMic goes live at 9:00 PM\n\n🎤 Host: Fenris\nHave questions or want to reserve your spot in advance? Email: fenristwins@yahoo.com \n✨ Details: \n\nNo cover\n21+ with ID\nPlenty of free parking\n\n🍹 Happy Hour: 6 PM–8 PM \n\n$3 beers\n$4 mixed drinks/shots\nHalf-off all craft beers\n\n🎮 After the jokes\, relive your gaming glory days with classic video games on the big screen! \nFollow Bar XIII Delaware on Facebook and check us out on Untappd: https://untappd.com/v/bar-xiii/4547918 \nBar XIII: Where comedy meets classic gaming for a night you won’t forget!
URL:https://barxiii.com/e/comedy-open-mic-night-classic-video-games-70/
LOCATION:Bar XIII\, 1706 Philadelphia Pike\, Wilmington\, DE\, 19809\, United States
CATEGORIES:comedy,open mic
ATTACH;FMTTYPE=image/jpeg:https://barxiii.com/wp-content/uploads/2025/05/03-Wednesday-Comedy-ig.jpg
END:VEVENT
BEGIN:VEVENT
DTSTART;TZID=America/New_York:20260527T203000
DTEND;TZID=America/New_York:20260527T203000
DTSTAMP:20260424T031528
CREATED:20260422T234719Z
LAST-MODIFIED:20260422T234719Z
UID:3853-1779913800-1779913800@barxiii.com
SUMMARY:Comedy Open Mic Night + Classic Video Games
DESCRIPTION:Comedy Open Mic Night + Classic Video Games at Bar XIII! 🎤🎮\nGet ready for a night full of laughs and retro fun at Bar XIII! Whether you’re an aspiring comedian\, a seasoned pro\, or just in the mood for some great entertainment\, this is your chance to experience comedy like never before. And after the laughs\, stick around for classic video games on the big screen—because nothing pairs better with comedy than nostalgia! \n📅 When: \n\nSign-ups at 8:30 PM\nMic goes live at 9:00 PM\n\n🎤 Host: Fenris\nHave questions or want to reserve your spot in advance? Email: fenristwins@yahoo.com \n✨ Details: \n\nNo cover\n21+ with ID\nPlenty of free parking\n\n🍹 Happy Hour: 6 PM–8 PM \n\n$3 beers\n$4 mixed drinks/shots\nHalf-off all craft beers\n\n🎮 After the jokes\, relive your gaming glory days with classic video games on the big screen! \nFollow Bar XIII Delaware on Facebook and check us out on Untappd: https://untappd.com/v/bar-xiii/4547918 \nBar XIII: Where comedy meets classic gaming for a night you won’t forget!
URL:https://barxiii.com/e/comedy-open-mic-night-classic-video-games-71/
LOCATION:Bar XIII\, 1706 Philadelphia Pike\, Wilmington\, DE\, 19809\, United States
CATEGORIES:comedy,open mic
ATTACH;FMTTYPE=image/jpeg:https://barxiii.com/wp-content/uploads/2025/05/03-Wednesday-Comedy-ig.jpg
END:VEVENT
END:VCALENDAR