BEGIN:VCALENDAR
VERSION:2.0
PRODID:-//Bar XIII - ECPv6.15.20//NONSGML v1.0//EN
CALSCALE:GREGORIAN
METHOD:PUBLISH
X-WR-CALNAME:Bar XIII
X-ORIGINAL-URL:https://barxiii.com
X-WR-CALDESC:Events for Bar XIII
REFRESH-INTERVAL;VALUE=DURATION:PT1H
X-Robots-Tag:noindex
X-PUBLISHED-TTL:PT1H
BEGIN:VTIMEZONE
TZID:America/New_York
BEGIN:DAYLIGHT
TZOFFSETFROM:-0500
TZOFFSETTO:-0400
TZNAME:EDT
DTSTART:20240310T070000
END:DAYLIGHT
BEGIN:STANDARD
TZOFFSETFROM:-0400
TZOFFSETTO:-0500
TZNAME:EST
DTSTART:20241103T060000
END:STANDARD
BEGIN:DAYLIGHT
TZOFFSETFROM:-0500
TZOFFSETTO:-0400
TZNAME:EDT
DTSTART:20250309T070000
END:DAYLIGHT
BEGIN:STANDARD
TZOFFSETFROM:-0400
TZOFFSETTO:-0500
TZNAME:EST
DTSTART:20251102T060000
END:STANDARD
BEGIN:DAYLIGHT
TZOFFSETFROM:-0500
TZOFFSETTO:-0400
TZNAME:EDT
DTSTART:20260308T070000
END:DAYLIGHT
BEGIN:STANDARD
TZOFFSETFROM:-0400
TZOFFSETTO:-0500
TZNAME:EST
DTSTART:20261101T060000
END:STANDARD
BEGIN:DAYLIGHT
TZOFFSETFROM:-0500
TZOFFSETTO:-0400
TZNAME:EDT
DTSTART:20270314T070000
END:DAYLIGHT
BEGIN:STANDARD
TZOFFSETFROM:-0400
TZOFFSETTO:-0500
TZNAME:EST
DTSTART:20271107T060000
END:STANDARD
END:VTIMEZONE
BEGIN:VEVENT
DTSTART;TZID=America/New_York:20251212T190000
DTEND;TZID=America/New_York:20251212T190000
DTSTAMP:20260424T052448
CREATED:20251119T151920Z
LAST-MODIFIED:20251119T151920Z
UID:3576-1765566000-1765566000@barxiii.com
SUMMARY:Deadsville Productions Presents A Very Merry Krampus!
DESCRIPTION:Join us for our Very Merry Krampus show!\n\nLive Music from:The Galaxy Has Eyes! (their LAST SHOW EVER!)Minor Setbackand The Geriatrics!\nPhoto Op with Krampus!\n21+ w/ Valid ID$10 admission
URL:https://barxiii.com/e/deadsville-productions-presents-a-very-merry-krampus/
LOCATION:Bar XIII\, 1706 Philadelphia Pike\, Wilmington\, DE\, 19809\, United States
CATEGORIES:featured,metal,punk
ATTACH;FMTTYPE=image/jpeg:https://barxiii.com/wp-content/uploads/2025/11/a-very-merry-ronin.jpg
END:VEVENT
BEGIN:VEVENT
DTSTART;TZID=America/New_York:20260124T180000
DTEND;TZID=America/New_York:20260124T180000
DTSTAMP:20260424T052448
CREATED:20251119T153856Z
LAST-MODIFIED:20260123T192042Z
UID:3595-1769277600-1769277600@barxiii.com
SUMMARY:CANCELLED: Demonic SymphonicFest II
DESCRIPTION:——————————————–\nCANCELLED\n——————————————–\n\n\n\n6 PM Doors – Show at 6:30$20 Advance/$25 Door21+\nA Sound of Thunderhttps://www.youtube.com/watch?v=xzgTfYhe03s…\nAversedhttps://www.youtube.com/watch?v=lUatQbOXUlU…\nMalphashttps://www.youtube.com/watch?v=bn9p_a7fsNg…\nZeke Skyhttps://www.youtube.com/watch?v=DX-WIm2HAZc…\nIce Gianthttps://www.youtube.com/watch?v=VvmkCxDfdHI…\nHigh Councilhttps://www.youtube.com/watch?v=RgaELjcjxQs…\nWinter Nightshttps://www.youtube.com/watch?v=yvjckMLfQy8…
URL:https://barxiii.com/e/demonic-symphonicfest-ii/
LOCATION:Bar XIII\, 1706 Philadelphia Pike\, Wilmington\, DE\, 19809\, United States
CATEGORIES:metal
END:VEVENT
BEGIN:VEVENT
DTSTART;TZID=America/New_York:20260220T190000
DTEND;TZID=America/New_York:20260220T190000
DTSTAMP:20260424T052448
CREATED:20260121T204330Z
LAST-MODIFIED:20260202T191530Z
UID:3703-1771614000-1771614000@barxiii.com
SUMMARY:AMPED FEST Tribute Festival
DESCRIPTION:Friday February 20th 2026 at Bar XIII Wilmington Del\nTributes to Primus\, Pearl Jam and Nirvana\nPrimus by Sgt. BakerPearl Jam by Riot ActNirvana by Negative Creeps\n\n$15 in advance or $20 at the door\nDoors at 6Music at 7\nCome ready to rock!
URL:https://barxiii.com/e/amped-fest-tribute-festival/
LOCATION:Bar XIII\, 1706 Philadelphia Pike\, Wilmington\, DE\, 19809\, United States
CATEGORIES:featured,metal
ATTACH;FMTTYPE=image/jpeg:https://barxiii.com/wp-content/uploads/2026/01/ampedfest.jpg
END:VEVENT
BEGIN:VEVENT
DTSTART;TZID=America/New_York:20260221T180000
DTEND;TZID=America/New_York:20260221T180000
DTSTAMP:20260424T052448
CREATED:20260121T204506Z
LAST-MODIFIED:20260121T204506Z
UID:3704-1771696800-1771696800@barxiii.com
SUMMARY:Metal Mayhem @ Bar XIII
DESCRIPTION:METAL MAYHEM 21 AND OVER WITH ID$10 AT THE DOORDRINK SPECIALS 6PM TO 9 PM$3 PBR TALL BOYS $6 MIXED DRINKS6 BANDSBURNED INTO EXISTANCECHOKE OUTSTARSKREAMFIRE FROMOLYMPUSENKAIGOD GIVEN BLADES
URL:https://barxiii.com/e/metal-mayhem-bar-xiii/
LOCATION:Bar XIII\, 1706 Philadelphia Pike\, Wilmington\, DE\, 19809\, United States
CATEGORIES:featured,metal
ATTACH;FMTTYPE=image/jpeg:https://barxiii.com/wp-content/uploads/2026/01/metal-mahem.jpg
END:VEVENT
BEGIN:VEVENT
DTSTART;TZID=America/New_York:20260227T190000
DTEND;TZID=America/New_York:20260227T190000
DTSTAMP:20260424T052448
CREATED:20260121T204928Z
LAST-MODIFIED:20260121T204945Z
UID:3709-1772218800-1772218800@barxiii.com
SUMMARY:Heartbent w/ Grandeur\, Ashes to Vanity\, and Did We Die?
DESCRIPTION:Come catch Heartbent with Grandeur\, Ashes to Vanity\, & Did We Die at Bar XIII Delaware on February 27th! https://www.eventbrite.com/e/1975825220422?aff=oddtdtcreator
URL:https://barxiii.com/e/heartbent-w-grandeur-ashes-to-vanity-and-did-we-die/
LOCATION:Bar XIII\, 1706 Philadelphia Pike\, Wilmington\, DE\, 19809\, United States
CATEGORIES:featured,metal
ATTACH;FMTTYPE=image/jpeg:https://barxiii.com/wp-content/uploads/2026/01/heartbent.jpg
END:VEVENT
BEGIN:VEVENT
DTSTART;TZID=America/New_York:20260307T190000
DTEND;TZID=America/New_York:20260307T190000
DTSTAMP:20260424T052448
CREATED:20260218T173144Z
LAST-MODIFIED:20260218T175333Z
UID:3745-1772910000-1772910000@barxiii.com
SUMMARY:Wacken Battle 2026 Delaware 3-7
DESCRIPTION:Wacken Battle Delaware Round 1\nDoors at 6:30 Show at 7$10\, 21+\nSkullovich\nBreakker\nDesolation\nIllusion of Solace\nFvct Erth
URL:https://barxiii.com/e/wacken-battle-2026-delaware-3-7/
LOCATION:Bar XIII\, 1706 Philadelphia Pike\, Wilmington\, DE\, 19809\, United States
CATEGORIES:featured,metal
ATTACH;FMTTYPE=image/jpeg:https://barxiii.com/wp-content/uploads/2026/02/metal-battle-1.jpg
END:VEVENT
BEGIN:VEVENT
DTSTART;TZID=America/New_York:20260327T200000
DTEND;TZID=America/New_York:20260327T200000
DTSTAMP:20260424T052448
CREATED:20260218T174846Z
LAST-MODIFIED:20260218T175405Z
UID:3763-1774641600-1774641600@barxiii.com
SUMMARY:NU METAL MADNESS
DESCRIPTION:NU METAL MADNESS – TRIBUTE FESTIVAL Brought to you by the Eastern Tribute Collective\nGet ready for a full night of high-energy NU METAL as four powerhouse tribute acts take over Bar XIII! Experience the sound\, attitude\, and chaos of the biggest bands of the era — all in one insane night.\n\n LIVE TRIBUTE PERFORMANCES BY:• Issues – Korn Tribute• Red Cap Assassins – Limp Bizkit Tribute• Nu Metal Messiah – Deftones Set• Roach Motel – Papa Roach Tribute\n Date: Friday\, March 27 Doors: 8:00 PM Show: 9:00 PM\n Tickets:• $15 Advance• $20 Day of Show\n Venue:BAR XIII1706 Philadelphia PikeWilmington\, DE
URL:https://barxiii.com/e/nu-metal-madness/
LOCATION:Bar XIII\, 1706 Philadelphia Pike\, Wilmington\, DE\, 19809\, United States
CATEGORIES:featured,metal
ATTACH;FMTTYPE=image/jpeg:https://barxiii.com/wp-content/uploads/2026/02/numetal.jpg
END:VEVENT
BEGIN:VEVENT
DTSTART;TZID=America/New_York:20260328T200000
DTEND;TZID=America/New_York:20260328T200000
DTSTAMP:20260424T052448
CREATED:20260218T175033Z
LAST-MODIFIED:20260218T175411Z
UID:3766-1774728000-1774728000@barxiii.com
SUMMARY:Riff-Heavy Doom Jubilee
DESCRIPTION:RIFF-HEAVY DOOM JUBILEESaturday\, March 28 Bar XIII – Wilmington\, DE\nThunderbird Divine – Philly Psych Riff RockSonic Command – Delaware Instrumental DoomLocust Pointe – Maryland Progressive Doom RockMEATPLOW – Jersey Doom/Southern Metal\n\n$10 at the door • Live music at 9pmLet’s get Heavy.Spread the Signal.
URL:https://barxiii.com/e/riff-heavy-doom-jubilee/
LOCATION:Bar XIII\, 1706 Philadelphia Pike\, Wilmington\, DE\, 19809\, United States
CATEGORIES:featured,metal
ATTACH;FMTTYPE=image/jpeg:https://barxiii.com/wp-content/uploads/2026/02/doomjubilie.jpg
END:VEVENT
BEGIN:VEVENT
DTSTART;TZID=America/New_York:20260419T080000
DTEND;TZID=America/New_York:20260419T170000
DTSTAMP:20260424T052448
CREATED:20260319T200837Z
LAST-MODIFIED:20260319T200837Z
UID:3805-1776585600-1776618000@barxiii.com
SUMMARY:RVNT / Weighing In / Bedroom Floor
DESCRIPTION:The Dark Star Collective and BarXlll presents\nRVNT (Theoria Records)Weighing In Bedroom Floor Ground/lessFloodgates allswell\n\n$15 Adv $20 DOS\n21+
URL:https://barxiii.com/e/rvnt-weighing-in-bedroom-floor/
LOCATION:Bar XIII\, 1706 Philadelphia Pike\, Wilmington\, DE\, 19809\, United States
CATEGORIES:metal
ATTACH;FMTTYPE=image/jpeg:https://barxiii.com/wp-content/uploads/2026/03/attack-of-killer-riffs.jpg
END:VEVENT
BEGIN:VEVENT
DTSTART;TZID=America/New_York:20260530T183000
DTEND;TZID=America/New_York:20260530T183000
DTSTAMP:20260424T052448
CREATED:20260403T151921Z
LAST-MODIFIED:20260403T151921Z
UID:3833-1780165800-1780165800@barxiii.com
SUMMARY:Demonic SymphonicFest II
DESCRIPTION:Demonic SymphonicFest returns to Bar XIII in Wilmington\, DE\nDoors at 6Show at 6:3021+Tickets $25 at the door\, $20 in advance\nA Sound of Thunderhttps://www.youtube.com/watch?v=7XGnASM_RcM\nIATThttps://www.youtube.com/watch?v=2PpPbdWEAM0\nMalphashttps://www.youtube.com/watch?v=bn9p_a7fsNg\nZeke Skyhttps://www.youtube.com/watch?v=DX-WIm2HAZc\nIce Gianthttps://www.youtube.com/watch?v=VvmkCxDfdHI\nSkullovichhttps://www.youtube.com/watch?v=UvALj3TF8m4\nSmokeborn Blasphemyhttps://www.youtube.com/watch?v=UiIUtOVdKeE
URL:https://barxiii.com/e/demonic-symphonicfest-ii-2/
LOCATION:Bar XIII\, 1706 Philadelphia Pike\, Wilmington\, DE\, 19809\, United States
CATEGORIES:featured,metal
ATTACH;FMTTYPE=image/jpeg:https://barxiii.com/wp-content/uploads/2026/04/demonic.jpg
END:VEVENT
END:VCALENDAR