BEGIN:VCALENDAR
VERSION:2.0
PRODID:-//Bar XIII - ECPv6.15.20//NONSGML v1.0//EN
CALSCALE:GREGORIAN
METHOD:PUBLISH
X-WR-CALNAME:Bar XIII
X-ORIGINAL-URL:https://barxiii.com
X-WR-CALDESC:Events for Bar XIII
REFRESH-INTERVAL;VALUE=DURATION:PT1H
X-Robots-Tag:noindex
X-PUBLISHED-TTL:PT1H
BEGIN:VTIMEZONE
TZID:America/New_York
BEGIN:DAYLIGHT
TZOFFSETFROM:-0500
TZOFFSETTO:-0400
TZNAME:EDT
DTSTART:20240310T070000
END:DAYLIGHT
BEGIN:STANDARD
TZOFFSETFROM:-0400
TZOFFSETTO:-0500
TZNAME:EST
DTSTART:20241103T060000
END:STANDARD
BEGIN:DAYLIGHT
TZOFFSETFROM:-0500
TZOFFSETTO:-0400
TZNAME:EDT
DTSTART:20250309T070000
END:DAYLIGHT
BEGIN:STANDARD
TZOFFSETFROM:-0400
TZOFFSETTO:-0500
TZNAME:EST
DTSTART:20251102T060000
END:STANDARD
BEGIN:DAYLIGHT
TZOFFSETFROM:-0500
TZOFFSETTO:-0400
TZNAME:EDT
DTSTART:20260308T070000
END:DAYLIGHT
BEGIN:STANDARD
TZOFFSETFROM:-0400
TZOFFSETTO:-0500
TZNAME:EST
DTSTART:20261101T060000
END:STANDARD
END:VTIMEZONE
BEGIN:VEVENT
DTSTART;TZID=America/New_York:20250919T200000
DTEND;TZID=America/New_York:20250919T200000
DTSTAMP:20260422T121743
CREATED:20250829T185246Z
LAST-MODIFIED:20250915T173529Z
UID:3385-1758312000-1758312000@barxiii.com
SUMMARY:Vanylla Godzylla\, Ashes to Vanity and Arkum Invade Bar XIII
DESCRIPTION:Vanylla Godzylla\, Ashes to Vanity Arkum\n\nDoors @8PM$15 in advance21+ w/Valid ID\nTICKETS
URL:https://barxiii.com/e/vanylla-godzylla-ashes-to-vanity-and-arkum-invade-bar-xiii/
LOCATION:Bar XIII\, 1706 Philadelphia Pike\, Wilmington\, DE\, 19809\, United States
CATEGORIES:featured,metal
ATTACH;FMTTYPE=image/jpeg:https://barxiii.com/wp-content/uploads/2025/08/vanylla-godzylla-bar-xiii.jpg
END:VEVENT
END:VCALENDAR