BEGIN:VCALENDAR
VERSION:2.0
PRODID:-//Bar XIII - ECPv6.15.20//NONSGML v1.0//EN
CALSCALE:GREGORIAN
METHOD:PUBLISH
X-WR-CALNAME:Bar XIII
X-ORIGINAL-URL:https://barxiii.com
X-WR-CALDESC:Events for Bar XIII
REFRESH-INTERVAL;VALUE=DURATION:PT1H
X-Robots-Tag:noindex
X-PUBLISHED-TTL:PT1H
BEGIN:VTIMEZONE
TZID:America/New_York
BEGIN:DAYLIGHT
TZOFFSETFROM:-0500
TZOFFSETTO:-0400
TZNAME:EDT
DTSTART:20240310T070000
END:DAYLIGHT
BEGIN:STANDARD
TZOFFSETFROM:-0400
TZOFFSETTO:-0500
TZNAME:EST
DTSTART:20241103T060000
END:STANDARD
BEGIN:DAYLIGHT
TZOFFSETFROM:-0500
TZOFFSETTO:-0400
TZNAME:EDT
DTSTART:20250309T070000
END:DAYLIGHT
BEGIN:STANDARD
TZOFFSETFROM:-0400
TZOFFSETTO:-0500
TZNAME:EST
DTSTART:20251102T060000
END:STANDARD
BEGIN:DAYLIGHT
TZOFFSETFROM:-0500
TZOFFSETTO:-0400
TZNAME:EDT
DTSTART:20260308T070000
END:DAYLIGHT
BEGIN:STANDARD
TZOFFSETFROM:-0400
TZOFFSETTO:-0500
TZNAME:EST
DTSTART:20261101T060000
END:STANDARD
END:VTIMEZONE
BEGIN:VEVENT
DTSTART;TZID=America/New_York:20250829T210000
DTEND;TZID=America/New_York:20250829T210000
DTSTAMP:20260422T104548
CREATED:20250731T053208Z
LAST-MODIFIED:20250731T053208Z
UID:3344-1756501200-1756501200@barxiii.com
SUMMARY:Johnny Voorhees Presents: Local Metal Mayhem Comes to Delaware
DESCRIPTION:Prepare for metal and mayhem to invade Bar XIII in Wilmington\, Delaware on Friday\, August 29th.\nBands:Fire From OlympusGod Given BladesSuicide ConspiracyThe World Without Us\n*** 21+ Show with ID*** $10 lousy dollars at the door\nSUPPORT LOCAL ORIGINAL MUSIC!
URL:https://barxiii.com/e/johnny-voorhees-presents-local-metal-mayhem-comes-to-delaware/
LOCATION:Bar XIII\, 1706 Philadelphia Pike\, Wilmington\, DE\, 19809\, United States
CATEGORIES:featured,Live Music,metal
ATTACH;FMTTYPE=image/jpeg:https://barxiii.com/wp-content/uploads/2025/07/08.29-Poster.jpg
END:VEVENT
END:VCALENDAR