BEGIN:VCALENDAR
VERSION:2.0
PRODID:-//Bar XIII - ECPv6.15.20//NONSGML v1.0//EN
CALSCALE:GREGORIAN
METHOD:PUBLISH
X-WR-CALNAME:Bar XIII
X-ORIGINAL-URL:https://barxiii.com
X-WR-CALDESC:Events for Bar XIII
REFRESH-INTERVAL;VALUE=DURATION:PT1H
X-Robots-Tag:noindex
X-PUBLISHED-TTL:PT1H
BEGIN:VTIMEZONE
TZID:America/New_York
BEGIN:DAYLIGHT
TZOFFSETFROM:-0500
TZOFFSETTO:-0400
TZNAME:EDT
DTSTART:20230312T070000
END:DAYLIGHT
BEGIN:STANDARD
TZOFFSETFROM:-0400
TZOFFSETTO:-0500
TZNAME:EST
DTSTART:20231105T060000
END:STANDARD
BEGIN:DAYLIGHT
TZOFFSETFROM:-0500
TZOFFSETTO:-0400
TZNAME:EDT
DTSTART:20240310T070000
END:DAYLIGHT
BEGIN:STANDARD
TZOFFSETFROM:-0400
TZOFFSETTO:-0500
TZNAME:EST
DTSTART:20241103T060000
END:STANDARD
BEGIN:DAYLIGHT
TZOFFSETFROM:-0500
TZOFFSETTO:-0400
TZNAME:EDT
DTSTART:20250309T070000
END:DAYLIGHT
BEGIN:STANDARD
TZOFFSETFROM:-0400
TZOFFSETTO:-0500
TZNAME:EST
DTSTART:20251102T060000
END:STANDARD
END:VTIMEZONE
BEGIN:VEVENT
DTSTART;TZID=America/New_York:20240726T190000
DTEND;TZID=America/New_York:20240726T190000
DTSTAMP:20260424T090249
CREATED:20240627T145205Z
LAST-MODIFIED:20240703T141449Z
UID:2594-1722020400-1722020400@barxiii.com
SUMMARY:Coven Promotions Presents: "Universal Deterioration" album release by Helpless Agony & 4 more!
DESCRIPTION:Bands:\nHelpless Agony:https://www.facebook.com/profile.php?id=61556432141152https://open.spotify.com/artist/2nVMAHnaHRBFf867dcBXuN…\nChaos Protocol:https://www.facebook.com/profile.php?id=61554453156368https://open.spotify.com/artist/4WqgQ9bXX4Iv3Me3qkWniy…\nScissorfist:https://www.facebook.com/scissorfistmetalhttps://www.instagram.com/scissorfistmetal/https://open.spotify.com/artist/4wV9VRUCXKoHyCA8M1pT8x…\nFragmented:https://www.facebook.com/FragmentedPAhttps://www.instagram.com/fragmentedband/https://open.spotify.com/artist/0B0BYGPiIfQz7gFlKWMX9Z…\nBlud Red Roses:https://www.facebook.com/bludredroseshttps://www.instagram.com/bludredroses/https://open.spotify.com/artist/1pye6dbHs8AhCH91cthwsJ..
URL:https://barxiii.com/e/coven-promotions-universal-deterioration-album-release/
LOCATION:Bar XIII\, 1706 Philadelphia Pike\, Wilmington\, DE\, 19809\, United States
CATEGORIES:featured,Live Music,metal
ATTACH;FMTTYPE=image/png:https://barxiii.com/wp-content/uploads/2024/06/07.26-fb.png
END:VEVENT
END:VCALENDAR