BEGIN:VCALENDAR
VERSION:2.0
PRODID:-//Bar XIII - ECPv6.15.20//NONSGML v1.0//EN
CALSCALE:GREGORIAN
METHOD:PUBLISH
X-WR-CALNAME:Bar XIII
X-ORIGINAL-URL:https://barxiii.com
X-WR-CALDESC:Events for Bar XIII
REFRESH-INTERVAL;VALUE=DURATION:PT1H
X-Robots-Tag:noindex
X-PUBLISHED-TTL:PT1H
BEGIN:VTIMEZONE
TZID:America/New_York
BEGIN:DAYLIGHT
TZOFFSETFROM:-0500
TZOFFSETTO:-0400
TZNAME:EDT
DTSTART:20230312T070000
END:DAYLIGHT
BEGIN:STANDARD
TZOFFSETFROM:-0400
TZOFFSETTO:-0500
TZNAME:EST
DTSTART:20231105T060000
END:STANDARD
BEGIN:DAYLIGHT
TZOFFSETFROM:-0500
TZOFFSETTO:-0400
TZNAME:EDT
DTSTART:20240310T070000
END:DAYLIGHT
BEGIN:STANDARD
TZOFFSETFROM:-0400
TZOFFSETTO:-0500
TZNAME:EST
DTSTART:20241103T060000
END:STANDARD
BEGIN:DAYLIGHT
TZOFFSETFROM:-0500
TZOFFSETTO:-0400
TZNAME:EDT
DTSTART:20250309T070000
END:DAYLIGHT
BEGIN:STANDARD
TZOFFSETFROM:-0400
TZOFFSETTO:-0500
TZNAME:EST
DTSTART:20251102T060000
END:STANDARD
END:VTIMEZONE
BEGIN:VEVENT
DTSTART;TZID=America/New_York:20240323T190000
DTEND;TZID=America/New_York:20240323T190000
DTSTAMP:20260421T055544
CREATED:20240228T201245Z
LAST-MODIFIED:20240318T121931Z
UID:2373-1711220400-1711220400@barxiii.com
SUMMARY:Tyrant w/ Dysplacer\, Weighing In\, and Ascension Drive
DESCRIPTION:Blackcraft Booking Agency and Bar XIII Presents\nThe Lowest Level Tour Part II\nTYRANT\nDYSPLACER\nWEIGHING IN\nASCENSION DRIVE\n21+ W/ VALID ID\nGA Tickets • https://ticketstripe.com/events/1039637\nPublic On Sale Date : January 5th 10AM EST
URL:https://barxiii.com/e/tyrant-w-dysplacer-weighing-in-and-ascension-drive/
LOCATION:Bar XIII\, 1706 Philadelphia Pike\, Wilmington\, DE\, 19809\, United States
CATEGORIES:featured,Live Music,metal
ATTACH;FMTTYPE=image/jpeg:https://barxiii.com/wp-content/uploads/2024/02/03.23-ig.jpeg
END:VEVENT
END:VCALENDAR