BEGIN:VCALENDAR
VERSION:2.0
PRODID:-//Bar XIII - ECPv6.15.20//NONSGML v1.0//EN
CALSCALE:GREGORIAN
METHOD:PUBLISH
X-ORIGINAL-URL:https://barxiii.com
X-WR-CALDESC:Events for Bar XIII
REFRESH-INTERVAL;VALUE=DURATION:PT1H
X-Robots-Tag:noindex
X-PUBLISHED-TTL:PT1H
BEGIN:VTIMEZONE
TZID:America/New_York
BEGIN:DAYLIGHT
TZOFFSETFROM:-0500
TZOFFSETTO:-0400
TZNAME:EDT
DTSTART:20230312T070000
END:DAYLIGHT
BEGIN:STANDARD
TZOFFSETFROM:-0400
TZOFFSETTO:-0500
TZNAME:EST
DTSTART:20231105T060000
END:STANDARD
BEGIN:DAYLIGHT
TZOFFSETFROM:-0500
TZOFFSETTO:-0400
TZNAME:EDT
DTSTART:20240310T070000
END:DAYLIGHT
BEGIN:STANDARD
TZOFFSETFROM:-0400
TZOFFSETTO:-0500
TZNAME:EST
DTSTART:20241103T060000
END:STANDARD
BEGIN:DAYLIGHT
TZOFFSETFROM:-0500
TZOFFSETTO:-0400
TZNAME:EDT
DTSTART:20250309T070000
END:DAYLIGHT
BEGIN:STANDARD
TZOFFSETFROM:-0400
TZOFFSETTO:-0500
TZNAME:EST
DTSTART:20251102T060000
END:STANDARD
END:VTIMEZONE
BEGIN:VEVENT
DTSTART;TZID=America/New_York:20240203T200000
DTEND;TZID=America/New_York:20240203T200000
DTSTAMP:20260425T161152
CREATED:20240129T142051Z
LAST-MODIFIED:20240129T142051Z
UID:2257-1706990400-1706990400@barxiii.com
SUMMARY:Zeke Sky\, 12 Days Straight\, Hammersheep\, Gutter Royal\,
DESCRIPTION:Having received praise from such publications as Rolling Stone Magazine and Metal Hammer\, Zeke Sky makes their first Philly area appearance since 2020! The boys in 12 Days Straight\, Hammersheep \, and Gutter Royal are back for long-awaited Wilmington appearances!\nZeke Sky\n12 Days Straight\nHammersheep\nGutter Royal\n10.00 cover\n21+ w/ID
URL:https://barxiii.com/e/zeke/
LOCATION:Bar XIII\, 1706 Philadelphia Pike\, Wilmington\, DE\, 19809\, United States
CATEGORIES:metal,rock
ATTACH;FMTTYPE=image/jpeg:https://barxiii.com/wp-content/uploads/2024/01/416373463_885324513380783_8373876357158208106_n.jpg
END:VEVENT
END:VCALENDAR