BEGIN:VCALENDAR
VERSION:2.0
PRODID:-//Bar XIII - ECPv6.15.20//NONSGML v1.0//EN
CALSCALE:GREGORIAN
METHOD:PUBLISH
X-ORIGINAL-URL:https://barxiii.com
X-WR-CALDESC:Events for Bar XIII
REFRESH-INTERVAL;VALUE=DURATION:PT1H
X-Robots-Tag:noindex
X-PUBLISHED-TTL:PT1H
BEGIN:VTIMEZONE
TZID:America/New_York
BEGIN:DAYLIGHT
TZOFFSETFROM:-0500
TZOFFSETTO:-0400
TZNAME:EDT
DTSTART:20230312T070000
END:DAYLIGHT
BEGIN:STANDARD
TZOFFSETFROM:-0400
TZOFFSETTO:-0500
TZNAME:EST
DTSTART:20231105T060000
END:STANDARD
BEGIN:DAYLIGHT
TZOFFSETFROM:-0500
TZOFFSETTO:-0400
TZNAME:EDT
DTSTART:20240310T070000
END:DAYLIGHT
BEGIN:STANDARD
TZOFFSETFROM:-0400
TZOFFSETTO:-0500
TZNAME:EST
DTSTART:20241103T060000
END:STANDARD
BEGIN:DAYLIGHT
TZOFFSETFROM:-0500
TZOFFSETTO:-0400
TZNAME:EDT
DTSTART:20250309T070000
END:DAYLIGHT
BEGIN:STANDARD
TZOFFSETFROM:-0400
TZOFFSETTO:-0500
TZNAME:EST
DTSTART:20251102T060000
END:STANDARD
END:VTIMEZONE
BEGIN:VEVENT
DTSTART;TZID=America/New_York:20240504T200000
DTEND;TZID=America/New_York:20240504T200000
DTSTAMP:20260423T161722
CREATED:20240314T174058Z
LAST-MODIFIED:20240314T174058Z
UID:2434-1714852800-1714852800@barxiii.com
SUMMARY:Evil Empire (RATM) & Around the Fur (Deftones) & Prime Moose (Primus)
DESCRIPTION:Evil Empire – Rage Against the Machine Tribute\nhttps://www.facebook.com/EvilEmpireEastCoast\nhttps://www.youtube.com/watch?v=eulzkYBSx2M\nhttps://www.instagram.com/evil_empire_tribute_to_ratm/\nhttps://youtu.be/2BANtj3c6aQ\nAround the Fur – Deftones Tribute\nhttps://www.instagram.com/aroundthefur_deftones_tribute…\nPrime Moose – Primus Tribute\nhttps://www.instagram.com/primemoosesucks.
URL:https://barxiii.com/e/evil-empire-ratm-around-the-fur-deftones-prime-moose-primus/
LOCATION:Bar XIII\, 1706 Philadelphia Pike\, Wilmington\, DE\, 19809\, United States
CATEGORIES:featured,Live Music,metal
ATTACH;FMTTYPE=image/png:https://barxiii.com/wp-content/uploads/2024/03/05.04-fb.png
END:VEVENT
BEGIN:VEVENT
DTSTART;TZID=America/New_York:20240511T200000
DTEND;TZID=America/New_York:20240511T200000
DTSTAMP:20260423T161722
CREATED:20240422T164236Z
LAST-MODIFIED:20240422T164236Z
UID:2475-1715457600-1715457600@barxiii.com
SUMMARY:Strange Highways Album Release Show with Faith In Jane and Bailjack
DESCRIPTION:My absolute favorite shows to do: Album Releases!Strange HighwaysFaith In JaneBailjack\n10.0021+ w/ID
URL:https://barxiii.com/e/strange-highways-album-release-show-with-faith-in-jane-and-bailjack/
LOCATION:Bar XIII\, 1706 Philadelphia Pike\, Wilmington\, DE\, 19809\, United States
CATEGORIES:featured,Live Music,metal,rock
ATTACH;FMTTYPE=image/jpeg:https://barxiii.com/wp-content/uploads/2024/04/05.11-fb.jpeg
END:VEVENT
BEGIN:VEVENT
DTSTART;TZID=America/New_York:20240517T190000
DTEND;TZID=America/New_York:20240517T190000
DTSTAMP:20260423T161722
CREATED:20240422T164710Z
LAST-MODIFIED:20240422T164710Z
UID:2477-1715972400-1715972400@barxiii.com
SUMMARY:GRAVELORD EP RELEASE w/ St. Diablo\, Lost Continent\, Prevailer & As Beings
DESCRIPTION:*** 5 BUCKS = 5 BANGERS // PARTY ON THE CHEAP WITH US! ***\nJoin GRAVELORD to celebrate the release of our new\, self-titled EP featuring the jams “Self: Destruct” “It Was You’ & “Nicotine Fix”\nSpecial Guests: Prevailer\, St. Diablo\, Lost Continent\, As Beings\nCover: $5 – A freakin’ steal!Doors: 7:30 PMSchedule:\nAs Beings 8:00-9St. Diablo 9:00-10Prevailer 10:00-11Lost Continent 11:00-12Gravelord 12 – Close\nCome out and enjoy some of the best local metal in the area!
URL:https://barxiii.com/e/gravelord-ep-release-w-st-diablo-lost-continent-prevailer-as-beings/
LOCATION:Bar XIII\, 1706 Philadelphia Pike\, Wilmington\, DE\, 19809\, United States
CATEGORIES:featured,Live Music,metal
ATTACH;FMTTYPE=image/jpeg:https://barxiii.com/wp-content/uploads/2024/04/05.17-Poster.jpeg
END:VEVENT
BEGIN:VEVENT
DTSTART;TZID=America/New_York:20240524T200000
DTEND;TZID=America/New_York:20240524T200000
DTSTAMP:20260423T161722
CREATED:20240422T170121Z
LAST-MODIFIED:20240422T170121Z
UID:2482-1716580800-1716580800@barxiii.com
SUMMARY:Coven Promotions Presents: Born With Open Eyes\, Menace & The Hellfire\, Burned Into Existence & more!
DESCRIPTION:TICKETS GO ON SALE APRIL 29th\, 2024 12:00pm $10.00\n~Coven Promotions Presents~A Night Of Metal Performances By:\nBorn With Open Eyes:https://www.facebook.com/BORNWITHOPENEYEShttps://www.instagram.com/bwoe_official/https://open.spotify.com/artist/0ZSjyyNepjhcQNtpZVYO8E…\nMenace & The Hellfire:https://www.facebook.com/menaceandthehellfirehttps://www.instagram.com/menace_and_the_hellfire/https://open.spotify.com/artist/4F0QDFxAXaM6RoPMgwSUu6…\nBurned Into Existence:https://www.facebook.com/Burnedintoexistencehttps://www.instagram.com/burned_into_existence/https://open.spotify.com/artist/5E2M60zvpOTuHFZjlQpbNu…\nMindrazer:https://www.facebook.com/mindrazerofficialhttps://www.instagram.com/mindrazerofficial/https://open.spotify.com/artist/6dgThGTYmbbjpGRD1cOUm8…\nVendors:https://www.facebook.com/CryptidCare1https://www.facebook.com/profile.php?id=61550717512380\nDancers will be announced soon!
URL:https://barxiii.com/e/coven-promotions-presents-born-with-open-eyes-menace-the-hellfire-burned-into-existence-more/
LOCATION:Bar XIII\, 1706 Philadelphia Pike\, Wilmington\, DE\, 19809\, United States
CATEGORIES:featured,Live Music,metal
ATTACH;FMTTYPE=image/jpeg:https://barxiii.com/wp-content/uploads/2024/04/05.24-poster.jpeg
END:VEVENT
END:VCALENDAR