BEGIN:VCALENDAR
VERSION:2.0
PRODID:-//Bar XIII - ECPv6.15.20//NONSGML v1.0//EN
CALSCALE:GREGORIAN
METHOD:PUBLISH
X-ORIGINAL-URL:https://barxiii.com
X-WR-CALDESC:Events for Bar XIII
REFRESH-INTERVAL;VALUE=DURATION:PT1H
X-Robots-Tag:noindex
X-PUBLISHED-TTL:PT1H
BEGIN:VTIMEZONE
TZID:America/New_York
BEGIN:DAYLIGHT
TZOFFSETFROM:-0500
TZOFFSETTO:-0400
TZNAME:EDT
DTSTART:20250309T070000
END:DAYLIGHT
BEGIN:STANDARD
TZOFFSETFROM:-0400
TZOFFSETTO:-0500
TZNAME:EST
DTSTART:20251102T060000
END:STANDARD
BEGIN:DAYLIGHT
TZOFFSETFROM:-0500
TZOFFSETTO:-0400
TZNAME:EDT
DTSTART:20260308T070000
END:DAYLIGHT
BEGIN:STANDARD
TZOFFSETFROM:-0400
TZOFFSETTO:-0500
TZNAME:EST
DTSTART:20261101T060000
END:STANDARD
BEGIN:DAYLIGHT
TZOFFSETFROM:-0500
TZOFFSETTO:-0400
TZNAME:EDT
DTSTART:20270314T070000
END:DAYLIGHT
BEGIN:STANDARD
TZOFFSETFROM:-0400
TZOFFSETTO:-0500
TZNAME:EST
DTSTART:20271107T060000
END:STANDARD
END:VTIMEZONE
BEGIN:VEVENT
DTSTART;TZID=America/New_York:20260430T210000
DTEND;TZID=America/New_York:20260430T210000
DTSTAMP:20260423T093728
CREATED:20260319T201957Z
LAST-MODIFIED:20260422T234107Z
UID:3816-1777582800-1777582800@barxiii.com
SUMMARY:Asylum 13: CAPES ON. PANTS GONE. – A Superhero No Pants Party! 4/30
DESCRIPTION:Asylum 13 Presents: CAPES ON PANTS GONE!A Superhero-Themed No Pants Party\nThe city doesn’t need saving……but the dancefloor does.\n\nOn Thursday\, April 30th\, Asylum 13 transforms into a gathering of the most unhinged\, underdressed\, and overpowered heroes the night has ever seen.\nThis is your origin story.\nLeave the pants behind.\nKeep the boots\, the cape\, the attitude.\nFrom latex-clad vigilantes to masked misfits and villainous temptresses—this is where heroes come to let go of the rules and embrace the chaos.\n\n YOUR PANTS-LESS HEROES SPIN:\nIndustrial. Darkwave. Goth. EBM. 80s.Relentless beats for heroes who don’t clock out!\nFeaturing:mighty MIKE SAGAB SPOKEGABRIEL DRAX\n\n THE LOOK:\nThink:Capes flowing in the strobe light!Boots stomping the dancefloor!Skin\, leather\, latex\, fishnets!Heroes… but make it dangerous!\nNO PANTS is the mission.Interpret that however you dare.\n No full nudity permitted\, SAVE THAT FOR THE AFTER CREDITS SCENE!\n\n EVENT DETAILS:\nTime: 9PM – 1AM@ Bar XIII (Asylum 13)1706 Philadelphia Pike\, Wilmington DE\n21+ to enter$10 advance / $15 at the door\n\n FINAL WORD:\nThis isn’t a costume party.This is a transformation.\nNo capes optional.No pants expected.\nAnswer the call!
URL:https://barxiii.com/e/asylum-13-capes-on-pants-gone-a-superhero-no-pants-party-4-30/
LOCATION:Bar XIII\, 1706 Philadelphia Pike\, Wilmington\, DE\, 19809\, United States
CATEGORIES:DJ,ebm,EDM,goth
ATTACH;FMTTYPE=image/jpeg:https://barxiii.com/wp-content/uploads/2026/03/super-pants.jpg
END:VEVENT
END:VCALENDAR