BEGIN:VCALENDAR
VERSION:2.0
PRODID:-//Bar XIII - ECPv6.15.20//NONSGML v1.0//EN
CALSCALE:GREGORIAN
METHOD:PUBLISH
X-WR-CALNAME:Bar XIII
X-ORIGINAL-URL:https://barxiii.com
X-WR-CALDESC:Events for Bar XIII
REFRESH-INTERVAL;VALUE=DURATION:PT1H
X-Robots-Tag:noindex
X-PUBLISHED-TTL:PT1H
BEGIN:VTIMEZONE
TZID:America/New_York
BEGIN:DAYLIGHT
TZOFFSETFROM:-0500
TZOFFSETTO:-0400
TZNAME:EDT
DTSTART:20250309T070000
END:DAYLIGHT
BEGIN:STANDARD
TZOFFSETFROM:-0400
TZOFFSETTO:-0500
TZNAME:EST
DTSTART:20251102T060000
END:STANDARD
BEGIN:DAYLIGHT
TZOFFSETFROM:-0500
TZOFFSETTO:-0400
TZNAME:EDT
DTSTART:20260308T070000
END:DAYLIGHT
BEGIN:STANDARD
TZOFFSETFROM:-0400
TZOFFSETTO:-0500
TZNAME:EST
DTSTART:20261101T060000
END:STANDARD
BEGIN:DAYLIGHT
TZOFFSETFROM:-0500
TZOFFSETTO:-0400
TZNAME:EDT
DTSTART:20270314T070000
END:DAYLIGHT
BEGIN:STANDARD
TZOFFSETFROM:-0400
TZOFFSETTO:-0500
TZNAME:EST
DTSTART:20271107T060000
END:STANDARD
END:VTIMEZONE
BEGIN:VEVENT
DTSTART;TZID=America/New_York:20260530T183000
DTEND;TZID=America/New_York:20260530T183000
DTSTAMP:20260420T165630
CREATED:20260403T151921Z
LAST-MODIFIED:20260403T151921Z
UID:3833-1780165800-1780165800@barxiii.com
SUMMARY:Demonic SymphonicFest II
DESCRIPTION:Demonic SymphonicFest returns to Bar XIII in Wilmington\, DE\nDoors at 6Show at 6:3021+Tickets $25 at the door\, $20 in advance\nA Sound of Thunderhttps://www.youtube.com/watch?v=7XGnASM_RcM\nIATThttps://www.youtube.com/watch?v=2PpPbdWEAM0\nMalphashttps://www.youtube.com/watch?v=bn9p_a7fsNg\nZeke Skyhttps://www.youtube.com/watch?v=DX-WIm2HAZc\nIce Gianthttps://www.youtube.com/watch?v=VvmkCxDfdHI\nSkullovichhttps://www.youtube.com/watch?v=UvALj3TF8m4\nSmokeborn Blasphemyhttps://www.youtube.com/watch?v=UiIUtOVdKeE
URL:https://barxiii.com/e/demonic-symphonicfest-ii-2/
LOCATION:Bar XIII\, 1706 Philadelphia Pike\, Wilmington\, DE\, 19809\, United States
CATEGORIES:featured,metal
ATTACH;FMTTYPE=image/jpeg:https://barxiii.com/wp-content/uploads/2026/04/demonic.jpg
END:VEVENT
END:VCALENDAR