BEGIN:VCALENDAR
VERSION:2.0
PRODID:-//Bar XIII - ECPv6.15.20//NONSGML v1.0//EN
CALSCALE:GREGORIAN
METHOD:PUBLISH
X-WR-CALNAME:Bar XIII
X-ORIGINAL-URL:https://barxiii.com
X-WR-CALDESC:Events for Bar XIII
REFRESH-INTERVAL;VALUE=DURATION:PT1H
X-Robots-Tag:noindex
X-PUBLISHED-TTL:PT1H
BEGIN:VTIMEZONE
TZID:America/New_York
BEGIN:DAYLIGHT
TZOFFSETFROM:-0500
TZOFFSETTO:-0400
TZNAME:EDT
DTSTART:20250309T070000
END:DAYLIGHT
BEGIN:STANDARD
TZOFFSETFROM:-0400
TZOFFSETTO:-0500
TZNAME:EST
DTSTART:20251102T060000
END:STANDARD
BEGIN:DAYLIGHT
TZOFFSETFROM:-0500
TZOFFSETTO:-0400
TZNAME:EDT
DTSTART:20260308T070000
END:DAYLIGHT
BEGIN:STANDARD
TZOFFSETFROM:-0400
TZOFFSETTO:-0500
TZNAME:EST
DTSTART:20261101T060000
END:STANDARD
BEGIN:DAYLIGHT
TZOFFSETFROM:-0500
TZOFFSETTO:-0400
TZNAME:EDT
DTSTART:20270314T070000
END:DAYLIGHT
BEGIN:STANDARD
TZOFFSETFROM:-0400
TZOFFSETTO:-0500
TZNAME:EST
DTSTART:20271107T060000
END:STANDARD
END:VTIMEZONE
BEGIN:VEVENT
DTSTART;TZID=America/New_York:20260425T200000
DTEND;TZID=America/New_York:20260425T200000
DTSTAMP:20260420T151202
CREATED:20260319T201913Z
LAST-MODIFIED:20260403T145941Z
UID:3815-1777147200-1777147200@barxiii.com
SUMMARY:Got Isekai'd School Festival Arc DJ Dance Party | J-Pop\, K-Pop\, Cosplay Contest | w Mighty Mike Saga
DESCRIPTION:Anime-inspired dance party with DJs\, cosplay contest\, prizes\, themed drinks\, and high-energy club music\nGot Isekai’d 7: School Festival Arc arrives at Bar XIII on April 25th\, bringing a spring-themed edition inspired by anime school festivals and cherry blossom season.\n\nThe space transforms into a late-night festival under sakura skies—pink neon\, soft petals\, and a dancefloor that doesn’t slow down. What starts as a familiar school festival setting quickly shifts into something louder\, heavier\, and built for movement.\n\nThe DJ lineup returns with DJ Mighty Mike Saga\, DJ Gabriel Drax\, and DJ Xoxotique\, delivering a nonstop mix of anime favorites\, J-Pop\, J-Rock\, K-Pop\, gaming tracks\, and club-driven remixes designed to keep the energy high all night.\n\nCosplay is strongly encouraged—school uniforms\, festival looks\, or full character builds all fit the arc. The night features a cosplay contest\, prizes\, and raffles\, along with themed drink specials inspired by spring festivals and anime classics.\n\nGogo dancers from Dark Angels Burlesque bring additional energy to the floor throughout the night.\n\nGot Isekai’d is built by the local scene\, for the local scene. The DJs\, performers\, artists\, and organizers are all part of the same community you dance with regularly.\nEvery Got Isekai’d event is built around music\, movement\, and atmosphere—where the visuals\, sound\, and crowd all lock in together.\nIf you’ve ever wanted to step into a school festival that doesn’t end when the sun goes down\, this is your night.\n\nSaturday\, April 25\, 2026Doors at 8:00 PMBar XIII1706 Philadelphia Pike\, Wilmington\, DE21+ admission\nTickets: $13 advance | $20 at the door\nDress up\, dance hard\, and Get Isekai’d.
URL:https://barxiii.com/e/got-isekaid-school-festival-arc-dj-dance-party-j-pop-k-pop-cosplay-contest-w-mighty-mike-saga/
LOCATION:Bar XIII\, 1706 Philadelphia Pike\, Wilmington\, DE\, 19809\, United States
CATEGORIES:featured
ATTACH;FMTTYPE=image/jpeg:https://barxiii.com/wp-content/uploads/2026/03/i-got-iseka.jpg
END:VEVENT
END:VCALENDAR