BEGIN:VCALENDAR
VERSION:2.0
PRODID:-//Bar XIII - ECPv6.15.20//NONSGML v1.0//EN
CALSCALE:GREGORIAN
METHOD:PUBLISH
X-ORIGINAL-URL:https://barxiii.com
X-WR-CALDESC:Events for Bar XIII
REFRESH-INTERVAL;VALUE=DURATION:PT1H
X-Robots-Tag:noindex
X-PUBLISHED-TTL:PT1H
BEGIN:VTIMEZONE
TZID:America/New_York
BEGIN:DAYLIGHT
TZOFFSETFROM:-0500
TZOFFSETTO:-0400
TZNAME:EDT
DTSTART:20230312T070000
END:DAYLIGHT
BEGIN:STANDARD
TZOFFSETFROM:-0400
TZOFFSETTO:-0500
TZNAME:EST
DTSTART:20231105T060000
END:STANDARD
BEGIN:DAYLIGHT
TZOFFSETFROM:-0500
TZOFFSETTO:-0400
TZNAME:EDT
DTSTART:20240310T070000
END:DAYLIGHT
BEGIN:STANDARD
TZOFFSETFROM:-0400
TZOFFSETTO:-0500
TZNAME:EST
DTSTART:20241103T060000
END:STANDARD
BEGIN:DAYLIGHT
TZOFFSETFROM:-0500
TZOFFSETTO:-0400
TZNAME:EDT
DTSTART:20250309T070000
END:DAYLIGHT
BEGIN:STANDARD
TZOFFSETFROM:-0400
TZOFFSETTO:-0500
TZNAME:EST
DTSTART:20251102T060000
END:STANDARD
END:VTIMEZONE
BEGIN:VEVENT
DTSTART;TZID=America/New_York:20240428T200000
DTEND;TZID=America/New_York:20240428T200000
DTSTAMP:20260422T110120
CREATED:20240314T173750Z
LAST-MODIFIED:20240314T173750Z
UID:2432-1714334400-1714334400@barxiii.com
SUMMARY:Coven Promotions Presents: WALPURGISNACHT ft. Necroptic Engorgement\, Duress\, fire & more!!
DESCRIPTION:Coven Promotions Presents: WALPURGISNACHT ft. Necroptic Engorgement\, Duress\, Archael\, Acrolein & Intimidation Display!!\nThere will also be fire performances throughout the night\, dancers\, band merch & vendors\, food truck\, cold brews & one sinful hell of a time!!\nTICKETS GO ON SALE Friday\, March 15th\, 2024\nMore details to come soon!
URL:https://barxiii.com/e/coven-promotions-presents-walpurgisnacht-ft-necroptic-engorgement-duress-fire-more/
LOCATION:Bar XIII\, 1706 Philadelphia Pike\, Wilmington\, DE\, 19809\, United States
CATEGORIES:featured,Live Music,metal,vendors
ATTACH;FMTTYPE=image/jpeg:https://barxiii.com/wp-content/uploads/2024/03/04.28-pos.jpeg
END:VEVENT
END:VCALENDAR