BEGIN:VCALENDAR
VERSION:2.0
PRODID:-//Bar XIII - ECPv6.15.20//NONSGML v1.0//EN
CALSCALE:GREGORIAN
METHOD:PUBLISH
X-ORIGINAL-URL:https://barxiii.com
X-WR-CALDESC:Events for Bar XIII
REFRESH-INTERVAL;VALUE=DURATION:PT1H
X-Robots-Tag:noindex
X-PUBLISHED-TTL:PT1H
BEGIN:VTIMEZONE
TZID:America/New_York
BEGIN:DAYLIGHT
TZOFFSETFROM:-0500
TZOFFSETTO:-0400
TZNAME:EDT
DTSTART:20230312T070000
END:DAYLIGHT
BEGIN:STANDARD
TZOFFSETFROM:-0400
TZOFFSETTO:-0500
TZNAME:EST
DTSTART:20231105T060000
END:STANDARD
BEGIN:DAYLIGHT
TZOFFSETFROM:-0500
TZOFFSETTO:-0400
TZNAME:EDT
DTSTART:20240310T070000
END:DAYLIGHT
BEGIN:STANDARD
TZOFFSETFROM:-0400
TZOFFSETTO:-0500
TZNAME:EST
DTSTART:20241103T060000
END:STANDARD
BEGIN:DAYLIGHT
TZOFFSETFROM:-0500
TZOFFSETTO:-0400
TZNAME:EDT
DTSTART:20250309T070000
END:DAYLIGHT
BEGIN:STANDARD
TZOFFSETFROM:-0400
TZOFFSETTO:-0500
TZNAME:EST
DTSTART:20251102T060000
END:STANDARD
END:VTIMEZONE
BEGIN:VEVENT
DTSTART;TZID=America/New_York:20240503T210000
DTEND;TZID=America/New_York:20240503T210000
DTSTAMP:20260422T092843
CREATED:20240314T171115Z
LAST-MODIFIED:20240422T163515Z
UID:2419-1714770000-1714770000@barxiii.com
SUMMARY:Not Just a Phase Emo & Nu-Metal
DESCRIPTION:Hey you\,\nRemember those nights rocking out to My Chemical Romance and shamelessly belting Fall Out Boy lyrics in your bedroom? Yep\, so do we. If the thought of it still gives you those feels\, we’ve got something you’re gonna love!\nDust off your Eyeliner for EMO NIGHT 2023 at Bar XIII! \nWhen? Every 1st Friday of the month\nWhere? Bar XIII\, Wilmington\, DE.\nWhy You Absolutely Can’t Miss This:\nDJ Sugatone is spinning: This guy knows our emo soul. Expect everything from the classics to those tracks you totally forgot you loved.\nDress Code? All Emo: Break out those skinny jeans\, eyeliner\, and studded belts. Time to relive those glory days.\nConnect: Hey\, we’re all grown up\, but who says we can’t hang with fellow emo hearts?\nThoughts from Our Tribe:\n“Last time? Pure nostalgia. The playlist? Spot-on. I felt 15 again!”\n“Made the drive down. 100% worth it. See ya at the next one!”\nTickets? $10 at the door. Early bird tickets will return soon!\nWe all shouted it loud and proud back in the day\, “It’s not just a phase\, mom!” And guess what? We were right. Emo’s a vibe\, a movement\, OUR movement. So come on down and let’s live it up like it’s 2007!\nCan’t wait to see your emo self there. Trust us\, for us\, it’s still and will always be #NotJustAPhase.\nLater skater.
URL:https://barxiii.com/e/not-just-a-phase-emo-nu-metal-4/
LOCATION:Bar XIII\, 1706 Philadelphia Pike\, Wilmington\, DE\, 19809\, United States
CATEGORIES:dance,Emo,featured
ATTACH;FMTTYPE=image/jpeg:https://barxiii.com/wp-content/uploads/2023/11/event-emo-copy.jpg
END:VEVENT
BEGIN:VEVENT
DTSTART;TZID=America/New_York:20240504T200000
DTEND;TZID=America/New_York:20240504T200000
DTSTAMP:20260422T092843
CREATED:20240314T174058Z
LAST-MODIFIED:20240314T174058Z
UID:2434-1714852800-1714852800@barxiii.com
SUMMARY:Evil Empire (RATM) & Around the Fur (Deftones) & Prime Moose (Primus)
DESCRIPTION:Evil Empire – Rage Against the Machine Tribute\nhttps://www.facebook.com/EvilEmpireEastCoast\nhttps://www.youtube.com/watch?v=eulzkYBSx2M\nhttps://www.instagram.com/evil_empire_tribute_to_ratm/\nhttps://youtu.be/2BANtj3c6aQ\nAround the Fur – Deftones Tribute\nhttps://www.instagram.com/aroundthefur_deftones_tribute…\nPrime Moose – Primus Tribute\nhttps://www.instagram.com/primemoosesucks.
URL:https://barxiii.com/e/evil-empire-ratm-around-the-fur-deftones-prime-moose-primus/
LOCATION:Bar XIII\, 1706 Philadelphia Pike\, Wilmington\, DE\, 19809\, United States
CATEGORIES:featured,Live Music,metal
ATTACH;FMTTYPE=image/png:https://barxiii.com/wp-content/uploads/2024/03/05.04-fb.png
END:VEVENT
BEGIN:VEVENT
DTSTART;TZID=America/New_York:20240510T193000
DTEND;TZID=America/New_York:20240510T193000
DTSTAMP:20260422T092843
CREATED:20240314T174352Z
LAST-MODIFIED:20240314T174352Z
UID:2436-1715369400-1715369400@barxiii.com
SUMMARY:Hellaware Monster Prom w Mighty Joe Castro & Gravamen - Drew & the Blue - DJ Johnny Zabo
DESCRIPTION:HELLAWARE MONSTER PROM!!!!\nFeaturing\nMighty Joe Castro and the Gravamen\nDrew and the Blue\nDJ Johnny Zabo\nBest Dressed Contest\nProm Photos\nMore Details TBA!!!
URL:https://barxiii.com/e/hellaware-monster-prom-w-mighty-joe-castro-gravamen-drew-the-blue-dj-johnny-zabo/
LOCATION:Bar XIII\, 1706 Philadelphia Pike\, Wilmington\, DE\, 19809\, United States
CATEGORIES:featured,Live Music,punk
ATTACH;FMTTYPE=image/jpeg:https://barxiii.com/wp-content/uploads/2024/03/05.10-fb.jpeg
END:VEVENT
BEGIN:VEVENT
DTSTART;TZID=America/New_York:20240511T180000
DTEND;TZID=America/New_York:20240511T200000
DTSTAMP:20260422T092843
CREATED:20240422T163851Z
LAST-MODIFIED:20240422T163951Z
UID:2472-1715450400-1715457600@barxiii.com
SUMMARY:Holistic Happy Hour with Pax Shanti
DESCRIPTION:May Agenda includes Kali Oracle card readings with Pax Shanti\nPlease bring the following supplies; decent black sharpie\, crayons and/or colored pencils\, plastic/cardboard or clipboard placemat.\nAre you feeling stuck? Low on energy? Or maybe just need to “think out loud” about a life situation or relationship? Join us for Holistic Happy Hour at Bar XIII on Saturday March 9th 6pm to 8pm for intuitive mini-sessions with energy alchemist Pax Shanti. A certified\, trauma-informed yoga instructor\, EFT practitioner\, and hypnotherapist. Pax can help you identify and shift the persistent patterns that keep you from moving forward. Enter into this safe space\, and open to the possibility of a more authentic and abundant future!\nContinuing the 2nd Saturday of each month.
URL:https://barxiii.com/e/holistic-happy-hour-with-pax-shanti-3/
LOCATION:DE
CATEGORIES:class,featured,Health
ATTACH;FMTTYPE=image/png:https://barxiii.com/wp-content/uploads/2024/04/05.11-fb-happy.png
END:VEVENT
BEGIN:VEVENT
DTSTART;TZID=America/New_York:20240511T200000
DTEND;TZID=America/New_York:20240511T200000
DTSTAMP:20260422T092843
CREATED:20240422T164236Z
LAST-MODIFIED:20240422T164236Z
UID:2475-1715457600-1715457600@barxiii.com
SUMMARY:Strange Highways Album Release Show with Faith In Jane and Bailjack
DESCRIPTION:My absolute favorite shows to do: Album Releases!Strange HighwaysFaith In JaneBailjack\n10.0021+ w/ID
URL:https://barxiii.com/e/strange-highways-album-release-show-with-faith-in-jane-and-bailjack/
LOCATION:Bar XIII\, 1706 Philadelphia Pike\, Wilmington\, DE\, 19809\, United States
CATEGORIES:featured,Live Music,metal,rock
ATTACH;FMTTYPE=image/jpeg:https://barxiii.com/wp-content/uploads/2024/04/05.11-fb.jpeg
END:VEVENT
BEGIN:VEVENT
DTSTART;TZID=America/New_York:20240517T190000
DTEND;TZID=America/New_York:20240517T190000
DTSTAMP:20260422T092843
CREATED:20240422T164710Z
LAST-MODIFIED:20240422T164710Z
UID:2477-1715972400-1715972400@barxiii.com
SUMMARY:GRAVELORD EP RELEASE w/ St. Diablo\, Lost Continent\, Prevailer & As Beings
DESCRIPTION:*** 5 BUCKS = 5 BANGERS // PARTY ON THE CHEAP WITH US! ***\nJoin GRAVELORD to celebrate the release of our new\, self-titled EP featuring the jams “Self: Destruct” “It Was You’ & “Nicotine Fix”\nSpecial Guests: Prevailer\, St. Diablo\, Lost Continent\, As Beings\nCover: $5 – A freakin’ steal!Doors: 7:30 PMSchedule:\nAs Beings 8:00-9St. Diablo 9:00-10Prevailer 10:00-11Lost Continent 11:00-12Gravelord 12 – Close\nCome out and enjoy some of the best local metal in the area!
URL:https://barxiii.com/e/gravelord-ep-release-w-st-diablo-lost-continent-prevailer-as-beings/
LOCATION:Bar XIII\, 1706 Philadelphia Pike\, Wilmington\, DE\, 19809\, United States
CATEGORIES:featured,Live Music,metal
ATTACH;FMTTYPE=image/jpeg:https://barxiii.com/wp-content/uploads/2024/04/05.17-Poster.jpeg
END:VEVENT
BEGIN:VEVENT
DTSTART;TZID=America/New_York:20240518T210000
DTEND;TZID=America/New_York:20240518T210000
DTSTAMP:20260422T092843
CREATED:20240422T165001Z
LAST-MODIFIED:20240422T165001Z
UID:2479-1716066000-1716066000@barxiii.com
SUMMARY:Dark Angels presents The Lazarus Ball
DESCRIPTION:Please join the Dark Angels as they pay tribute to the genius of David Bowie\, with cabaret acts inspired by his 40 year long career.\nDoors @ 9 pmShow @ 10 pm21+ w/valid IDpresale $20\, door $25 VIP includes lanyard\, drink token\, and reserved seating $35
URL:https://barxiii.com/e/dark-angels-presents-the-lazarus-ball/
LOCATION:Bar XIII\, 1706 Philadelphia Pike\, Wilmington\, DE\, 19809\, United States
CATEGORIES:burlesque,featured
ATTACH;FMTTYPE=image/png:https://barxiii.com/wp-content/uploads/2024/04/05.18-fb.png
END:VEVENT
BEGIN:VEVENT
DTSTART;TZID=America/New_York:20240521T193000
DTEND;TZID=America/New_York:20240521T193000
DTSTAMP:20260422T092843
CREATED:20240422T165350Z
LAST-MODIFIED:20240422T165350Z
UID:2481-1716319800-1716319800@barxiii.com
SUMMARY:Asylum 13 Book Club Meeting - May 2024
DESCRIPTION:Book for May discussion is; \n\nNeon Gods by Katee Robert\nhttps://a.co/d/3sGXq7w  \nSociety darling Persephone Dimitriou plans to flee the ultra-modern city of Olympus and start over far from the backstabbing politics of the Thirteen Houses. But all that’s ripped away when her mother ambushes her with an engagement to Zeus\, the dangerous power behind their glittering city’s dark facade. \nWith no options left\, Persephone flees to the forbidden undercity and makes a devil’s bargain with a man she once believed a myth… a man who awakens her to a world she never knew existed. \nHades has spent his life in the shadows\, and he has no intention of stepping into the light. But when he finds that Persephone can offer a little slice of the revenge he’s spent years craving\, it’s all the excuse he needs to help her—for a price. Yet every breathless night spent tangled together has given Hades a taste for Persephone\, and he’ll go to war with Olympus itself to keep her close… \nA modern retelling of Hades and Persephone that’s as sinful as it is sweet. \n 
URL:https://barxiii.com/e/asylum-13-book-club-meeting-may-2024/
LOCATION:Bar XIII\, 1706 Philadelphia Pike\, Wilmington\, DE\, 19809\, United States
CATEGORIES:book club,featured
ATTACH;FMTTYPE=image/jpeg:https://barxiii.com/wp-content/uploads/2024/01/421441343_10228908373267970_1795720168201745798_n.jpg
END:VEVENT
BEGIN:VEVENT
DTSTART;TZID=America/New_York:20240524T200000
DTEND;TZID=America/New_York:20240524T200000
DTSTAMP:20260422T092843
CREATED:20240422T170121Z
LAST-MODIFIED:20240422T170121Z
UID:2482-1716580800-1716580800@barxiii.com
SUMMARY:Coven Promotions Presents: Born With Open Eyes\, Menace & The Hellfire\, Burned Into Existence & more!
DESCRIPTION:TICKETS GO ON SALE APRIL 29th\, 2024 12:00pm $10.00\n~Coven Promotions Presents~A Night Of Metal Performances By:\nBorn With Open Eyes:https://www.facebook.com/BORNWITHOPENEYEShttps://www.instagram.com/bwoe_official/https://open.spotify.com/artist/0ZSjyyNepjhcQNtpZVYO8E…\nMenace & The Hellfire:https://www.facebook.com/menaceandthehellfirehttps://www.instagram.com/menace_and_the_hellfire/https://open.spotify.com/artist/4F0QDFxAXaM6RoPMgwSUu6…\nBurned Into Existence:https://www.facebook.com/Burnedintoexistencehttps://www.instagram.com/burned_into_existence/https://open.spotify.com/artist/5E2M60zvpOTuHFZjlQpbNu…\nMindrazer:https://www.facebook.com/mindrazerofficialhttps://www.instagram.com/mindrazerofficial/https://open.spotify.com/artist/6dgThGTYmbbjpGRD1cOUm8…\nVendors:https://www.facebook.com/CryptidCare1https://www.facebook.com/profile.php?id=61550717512380\nDancers will be announced soon!
URL:https://barxiii.com/e/coven-promotions-presents-born-with-open-eyes-menace-the-hellfire-burned-into-existence-more/
LOCATION:Bar XIII\, 1706 Philadelphia Pike\, Wilmington\, DE\, 19809\, United States
CATEGORIES:featured,Live Music,metal
ATTACH;FMTTYPE=image/jpeg:https://barxiii.com/wp-content/uploads/2024/04/05.24-poster.jpeg
END:VEVENT
BEGIN:VEVENT
DTSTART;TZID=America/New_York:20240525T210000
DTEND;TZID=America/New_York:20240525T210000
DTSTAMP:20260422T092843
CREATED:20240422T170307Z
LAST-MODIFIED:20240507T175417Z
UID:2484-1716670800-1716670800@barxiii.com
SUMMARY:Karaoke Gung Show w/ Skeletor
DESCRIPTION:Skeletor is back again to gung you off stage! Come prove you can out sing him!
URL:https://barxiii.com/e/karaoke-gung-show-w-skeletor/
LOCATION:Bar XIII\, 1706 Philadelphia Pike\, Wilmington\, DE\, 19809\, United States
CATEGORIES:featured,karaoke
ATTACH;FMTTYPE=image/png:https://barxiii.com/wp-content/uploads/2024/04/05.25-IG.png
END:VEVENT
BEGIN:VEVENT
DTSTART;TZID=America/New_York:20240526T180000
DTEND;TZID=America/New_York:20240526T180000
DTSTAMP:20260422T092843
CREATED:20240422T170558Z
LAST-MODIFIED:20240507T175921Z
UID:2485-1716746400-1716746400@barxiii.com
SUMMARY:Dungeons and Drinks (May)
DESCRIPTION:Come Play Dungeons and Dragons\, and have a drink with us at Bar XIII! All experience levels welcome\, even if you’ve never played before! Tickets available at WyvernCrest.games (dice included).\nMust be 21 and older to participate\, please bring a valid ID
URL:https://barxiii.com/e/dungeons-and-drinks-may/
LOCATION:Bar XIII\, 1706 Philadelphia Pike\, Wilmington\, DE\, 19809\, United States
CATEGORIES:featured
ATTACH;FMTTYPE=image/png:https://barxiii.com/wp-content/uploads/2024/04/05.26-IG.png
END:VEVENT
BEGIN:VEVENT
DTSTART;TZID=America/New_York:20240530T210000
DTEND;TZID=America/New_York:20240530T210000
DTSTAMP:20260422T092843
CREATED:20240422T170829Z
LAST-MODIFIED:20240507T175044Z
UID:2488-1717102800-1717102800@barxiii.com
SUMMARY:Mighty Mike Saga's No Pants Party by Asylum 13
DESCRIPTION:dj mighty Mike Saga’s is bringing back his No Pants Party!!\nAsylum 13 presents:NO PANTS PARTYThursday May 30th 2024\nWith Phillys Pants-less Dj:mighty MIKE SAGA(Vortex! // Philly)\nSpinning:NO PANTS JAMS\,INDUSTRIAL\, GOTH\, 80S\, DARKWAVE\, ELECTRO HOUSE\, ITALO DISCO & More!\nRULES: (IF U CHOOSE 2 FOLLOW)\nPANTIES\, BOXERS\, KILTS\, SKIRTS\, SHORTS – * NO NUDITY!\nFood: Truck 13 6pm to 1am\n21+ /// $13 @ Door // $10 Advance or Dressed in Theme!\nFree parking\nhttp://barxiii.com/asylum13/\nHAPPY HOUR 6PM – 8PM enjoy $3 beers\, $4 mixed drinks/shots and half off all craft beers! Find us on Untappd https://untappd.com/v/bar-xiii/4547918Follow Bar XIII Delaware on Facebook or check out the website for more events and info.\nJoin the Facebook group! https://www.facebook.com/groups/asylum13.inmates/\nhttp://barxiii.com/asylum13/Eventbrite: https://www.eventbrite.com/o/asylum-13-60528684503\n@ Bar XIII1706 Philadelphia Pike\, Wilmington\, DE
URL:https://barxiii.com/e/mighty-mike-sagas-no-pants-party-by-asylum-13/
LOCATION:Bar XIII\, 1706 Philadelphia Pike\, Wilmington\, DE\, 19809\, United States
CATEGORIES:dance,featured
ATTACH;FMTTYPE=image/jpeg:https://barxiii.com/wp-content/uploads/2024/04/05.30-fb.jpeg
END:VEVENT
END:VCALENDAR