BEGIN:VCALENDAR
VERSION:2.0
PRODID:-//Bar XIII - ECPv6.15.20//NONSGML v1.0//EN
CALSCALE:GREGORIAN
METHOD:PUBLISH
X-ORIGINAL-URL:https://barxiii.com
X-WR-CALDESC:Events for Bar XIII
REFRESH-INTERVAL;VALUE=DURATION:PT1H
X-Robots-Tag:noindex
X-PUBLISHED-TTL:PT1H
BEGIN:VTIMEZONE
TZID:America/New_York
BEGIN:DAYLIGHT
TZOFFSETFROM:-0500
TZOFFSETTO:-0400
TZNAME:EDT
DTSTART:20230312T070000
END:DAYLIGHT
BEGIN:STANDARD
TZOFFSETFROM:-0400
TZOFFSETTO:-0500
TZNAME:EST
DTSTART:20231105T060000
END:STANDARD
BEGIN:DAYLIGHT
TZOFFSETFROM:-0500
TZOFFSETTO:-0400
TZNAME:EDT
DTSTART:20240310T070000
END:DAYLIGHT
BEGIN:STANDARD
TZOFFSETFROM:-0400
TZOFFSETTO:-0500
TZNAME:EST
DTSTART:20241103T060000
END:STANDARD
BEGIN:DAYLIGHT
TZOFFSETFROM:-0500
TZOFFSETTO:-0400
TZNAME:EDT
DTSTART:20250309T070000
END:DAYLIGHT
BEGIN:STANDARD
TZOFFSETFROM:-0400
TZOFFSETTO:-0500
TZNAME:EST
DTSTART:20251102T060000
END:STANDARD
END:VTIMEZONE
BEGIN:VTIMEZONE
TZID:America/New_York
BEGIN:DAYLIGHT
TZOFFSETFROM:-0500
TZOFFSETTO:-0400
TZNAME:EDT
DTSTART:20220313T070000
END:DAYLIGHT
BEGIN:STANDARD
TZOFFSETFROM:-0400
TZOFFSETTO:-0500
TZNAME:EST
DTSTART:20221106T060000
END:STANDARD
BEGIN:DAYLIGHT
TZOFFSETFROM:-0500
TZOFFSETTO:-0400
TZNAME:EDT
DTSTART:20230312T070000
END:DAYLIGHT
BEGIN:STANDARD
TZOFFSETFROM:-0400
TZOFFSETTO:-0500
TZNAME:EST
DTSTART:20231105T060000
END:STANDARD
BEGIN:DAYLIGHT
TZOFFSETFROM:-0500
TZOFFSETTO:-0400
TZNAME:EDT
DTSTART:20240310T070000
END:DAYLIGHT
BEGIN:STANDARD
TZOFFSETFROM:-0400
TZOFFSETTO:-0500
TZNAME:EST
DTSTART:20241103T060000
END:STANDARD
BEGIN:DAYLIGHT
TZOFFSETFROM:-0500
TZOFFSETTO:-0400
TZNAME:EDT
DTSTART:20250309T070000
END:DAYLIGHT
BEGIN:STANDARD
TZOFFSETFROM:-0400
TZOFFSETTO:-0500
TZNAME:EST
DTSTART:20251102T060000
END:STANDARD
END:VTIMEZONE
BEGIN:VEVENT
DTSTART;TZID=America/New_York:20240912T190000
DTEND;TZID=America/New_York:20240912T203000
DTSTAMP:20260424T135612
CREATED:20240902T234046Z
LAST-MODIFIED:20240902T234046Z
UID:2739-1726167600-1726173000@barxiii.com
SUMMARY:Rope Suspension Instructional
DESCRIPTION:Come join a class on rope suspension within the art of shibari. Open to people of all skill levels. We will cover essential safety practices\, designing harnesses for suspension\, getting off the ground for the first time\, & where to go from there. Questions will be welcome throughout.\nWe will finish with a demonstration of a full suspension sequence\, and a follow-up Q&A with feedback from both perspectives of topping and bottoming.\nBring your own rope if you would like to follow along with the demo ties\, but it is not required.\n\nStick around after the class for the Asylum 13 Dance Party ($7 cover)
URL:https://barxiii.com/e/suspension-instruct/
LOCATION:Bar XIII\, 1706 Philadelphia Pike\, Wilmington\, DE\, 19809\, United States
CATEGORIES:class,featured,kink
ATTACH;FMTTYPE=image/png:https://barxiii.com/wp-content/uploads/2024/09/09.12-fb-rope-1.png
END:VEVENT
BEGIN:VEVENT
DTSTART;TZID=America/New_York:20240718T190000
DTEND;TZID=America/New_York:20240718T190000
DTSTAMP:20260424T135612
CREATED:20240627T150145Z
LAST-MODIFIED:20240703T172302Z
UID:2597-1721329200-1721329200@barxiii.com
SUMMARY:Asylum 13 Education Presents Sensual Massage 101
DESCRIPTION:Asylum 13 Education Presents Sensual Massage 101 with Kim$5 at the door\nSensual Massage\nKim Shahan\, LMT has been a Licensed Massage Therapist for over 10 years. In 2020 during the COVID shut down Kim studied elemental tantra. Join us as Kim discusses massage techniques for couples. We will cover supplies\, basics of set up\, how to target areas of the body for relaxation and ways to deepen intimacy through touch and breath work.
URL:https://barxiii.com/e/asylum-13-massage-101/
LOCATION:Bar XIII\, 1706 Philadelphia Pike\, Wilmington\, DE\, 19809\, United States
CATEGORIES:class,Health,kink,munch
ATTACH;FMTTYPE=image/png:https://barxiii.com/wp-content/uploads/2024/06/07.18-FB2.png
END:VEVENT
BEGIN:VEVENT
DTSTART;TZID=America/New_York:20240613T190000
DTEND;TZID=America/New_York:20240613T200000
DTSTAMP:20260424T135612
CREATED:20240529T171524Z
LAST-MODIFIED:20240529T171524Z
UID:2549-1718305200-1718308800@barxiii.com
SUMMARY:Asylum 13 Presents Wax Play 101 with Tiny Terror
DESCRIPTION:Wax Play 101 with Tiny Terror$521+ with IDTruck 13 will be open
URL:https://barxiii.com/e/asylum-13-presents-wax-play-101-with-tiny-terror/
LOCATION:Bar XIII\, 1706 Philadelphia Pike\, Wilmington\, DE\, 19809\, United States
CATEGORIES:class,featured,kink
ATTACH;FMTTYPE=image/png:https://barxiii.com/wp-content/uploads/2024/05/06.13-fb.png
END:VEVENT
BEGIN:VEVENT
DTSTART;TZID=America/New_York:20240511T180000
DTEND;TZID=America/New_York:20240511T200000
DTSTAMP:20260424T135612
CREATED:20240422T163851Z
LAST-MODIFIED:20240422T163951Z
UID:2472-1715450400-1715457600@barxiii.com
SUMMARY:Holistic Happy Hour with Pax Shanti
DESCRIPTION:May Agenda includes Kali Oracle card readings with Pax Shanti\nPlease bring the following supplies; decent black sharpie\, crayons and/or colored pencils\, plastic/cardboard or clipboard placemat.\nAre you feeling stuck? Low on energy? Or maybe just need to “think out loud” about a life situation or relationship? Join us for Holistic Happy Hour at Bar XIII on Saturday March 9th 6pm to 8pm for intuitive mini-sessions with energy alchemist Pax Shanti. A certified\, trauma-informed yoga instructor\, EFT practitioner\, and hypnotherapist. Pax can help you identify and shift the persistent patterns that keep you from moving forward. Enter into this safe space\, and open to the possibility of a more authentic and abundant future!\nContinuing the 2nd Saturday of each month.
URL:https://barxiii.com/e/holistic-happy-hour-with-pax-shanti-3/
LOCATION:DE
CATEGORIES:class,featured,Health
ATTACH;FMTTYPE=image/png:https://barxiii.com/wp-content/uploads/2024/04/05.11-fb-happy.png
END:VEVENT
BEGIN:VEVENT
DTSTART;TZID=America/New_York:20240413T180000
DTEND;TZID=America/New_York:20240413T200000
DTSTAMP:20260424T135612
CREATED:20240314T171048Z
LAST-MODIFIED:20240314T171203Z
UID:2417-1713031200-1713038400@barxiii.com
SUMMARY:Holistic Happy Hour with Pax Shanti
DESCRIPTION:April Agenda includes Neurographic Art\nPlease bring the following supplies; decent black sharpie\, crayons and/or colored pencils\, plastic/cardboard or clipboard placemat.\nAre you feeling stuck? Low on energy? Or maybe just need to “think out loud” about a life situation or relationship? Join us for Holistic Happy Hour at Bar XIII on Saturday March 9th 6pm to 8pm for intuitive mini-sessions with energy alchemist Pax Shanti. A certified\, trauma-informed yoga instructor\, EFT practitioner\, and hypnotherapist. Pax can help you identify and shift the persistent patterns that keep you from moving forward. Enter into this safe space\, and open to the possibility of a more authentic and abundant future!\nContinuing the 2nd Saturday of each month.
URL:https://barxiii.com/e/holistic-happy-hour-with-pax-shanti-2/
LOCATION:DE
CATEGORIES:class,featured,Health
ATTACH;FMTTYPE=image/png:https://barxiii.com/wp-content/uploads/2024/03/04.13-fb-happy.png
END:VEVENT
BEGIN:VEVENT
DTSTART;TZID=America/New_York:20240410T183000
DTEND;TZID=America/New_York:20240410T203000
DTSTAMP:20260424T135612
CREATED:20240314T170317Z
LAST-MODIFIED:20240314T170317Z
UID:2413-1712773800-1712781000@barxiii.com
SUMMARY:Paint with Amy
DESCRIPTION:Worst painting gets a prize!\nThis isn’t your average paint night!\nTickets are $40.\nYour first drink is on me! (Single rail/well or beer)\nYou can follow my lead or go off on your own!\nThere are no rules!\nEvery painting will end up a little different\, this is impressionism.\nWe use fast-drying acrylics for the backgrounds and very thick icing/frosting-like paints for the textured foreground.\nThe mission is to paint\, drink\, laugh\, and misbehave!
URL:https://barxiii.com/e/paint-with-amy/
LOCATION:Bar XIII\, 1706 Philadelphia Pike\, Wilmington\, DE\, 19809\, United States
CATEGORIES:class,featured,live drawing,visual arts
ATTACH;FMTTYPE=image/jpeg:https://barxiii.com/wp-content/uploads/2024/03/04.10-fb.jpeg
END:VEVENT
BEGIN:VEVENT
DTSTART;TZID=America/New_York:20240111T070000
DTEND;TZID=America/New_York:20240111T200000
DTSTAMP:20260424T135612
CREATED:20240108T132408Z
LAST-MODIFIED:20240108T132408Z
UID:2235-1704956400-1705003200@barxiii.com
SUMMARY:Asylum 13 Education: Intimate Lap Dance with Lady Luxe
DESCRIPTION:While most lap dance or chair dance classes focus on the art of performing for an audience\, this class is designed to explore the connection between the dancer and their partner. I will show examples of how to create an intimate connection\, different types of movements\, and the pros/cons of things like footwear. We will discuss ways to ask for consent without breaking “character” and how to be a good partner.\n-Both dancer and partner should come dressed comfortably in clothing you are able to move in.\n-Dancers can wear heels\, flats\, or bring both.\n21+ with ID\n$13 per person (includes drink token)\nLimited Tickets Available
URL:https://barxiii.com/e/edu13/
LOCATION:Bar XIII\, 1706 Philadelphia Pike\, Wilmington\, DE\, 19809\, United States
CATEGORIES:class
ATTACH;FMTTYPE=image/jpeg:https://barxiii.com/wp-content/uploads/2024/01/413858923_753036980193872_6428367067866101798_n.jpg
END:VEVENT
BEGIN:VEVENT
DTSTART;TZID=America/New_York:20231214T190000
DTEND;TZID=America/New_York:20231214T203000
DTSTAMP:20260424T135612
CREATED:20231121T202300Z
LAST-MODIFIED:20231204T154904Z
UID:2130-1702580400-1702585800@barxiii.com
SUMMARY:Asylum Education: Impact and Power Exchange 101
DESCRIPTION:Asylum Education: Impact & Power Exchange 101 with Jamie Steel
URL:https://barxiii.com/e/asylum-education-impact-and-power-exchange-101/
LOCATION:DE
CATEGORIES:class,kink
ATTACH;FMTTYPE=image/jpeg:https://barxiii.com/wp-content/uploads/2023/11/404343040_734938928670344_2449153930459156092_n.jpg
END:VEVENT
BEGIN:VEVENT
DTSTART;TZID=America/New_York:20231116T183000
DTEND;TZID=America/New_York:20231116T183000
DTSTAMP:20260424T135612
CREATED:20231023T125703Z
LAST-MODIFIED:20231113T142824Z
UID:2041-1700159400-1700159400@barxiii.com
SUMMARY:Asylum 13 Education: Fire Play 101 w/ Fire Geisha
DESCRIPTION:Doors @ 6:30pm\nClass begins promptly at 7pm\nTickets: $13 (includes drink token)\nRemember to tip your bartender\n\nJoin us Thursday\, November 16th @ 7pm for a chance to learn all about the art of fire play with Asylum 13’s Fire Geisha!\nThe Fire Geisha has been practicing fire massage\, spinning\, and play for over 13 years. She can be found every Thursday night in the Asylum lounge offering her services to the few lucky patrons who are able to make it onto her schedule.\n\nOn the 16th\, you will have a chance to hear about her craft first hand as she offers an introductory lesson on the art of fire play. After the lesson\, there will be time to ask questions and talk to the Geisha before the music starts and the craziness of Asylum ensues.\n\nAs an added bonus for attending the Fire Play Education Session\, you will have the opportunity to pick a time slot before any other Asylum patron\, guaranteeing your spot on her bench to experience Fire Geisha’s fire massage first hand.
URL:https://barxiii.com/e/fireplay/
LOCATION:Bar XIII\, 1706 Philadelphia Pike\, Wilmington\, DE\, 19809\, United States
CATEGORIES:class,kink
ATTACH;FMTTYPE=image/jpeg:https://barxiii.com/wp-content/uploads/2023/10/Square-munchfire-copy.jpg
END:VEVENT
BEGIN:VEVENT
DTSTART;TZID=America/New_York:20230713T183000
DTEND;TZID=America/New_York:20230713T203000
DTSTAMP:20260424T135612
CREATED:20230626T122223Z
LAST-MODIFIED:20230626T122223Z
UID:1750-1689273000-1689280200@barxiii.com
SUMMARY:Rope Suspension Instructional
DESCRIPTION:Come join a class on rope suspension within the art of shibari. Open to people of\nall skill levels. We will cover essential safety practices\, designing harnesses for suspension\,\ngetting off the ground for the first time\, & where to go from there. Questions will be welcome throughout.\n\nWe will finish with a demonstration of a full suspension sequence\, and a follow-up Q&A with feedback from both perspectives of topping and bottoming.\n\nBring your own rope if you would like to follow along with the demo ties\, but it is not required.\nTickets: $13\, includes 1 drink token.\nS\ntick around after the class for the Asylum 13 Dance Party ($7 cover)
URL:https://barxiii.com/e/ropesus/
LOCATION:Bar XIII\, 1706 Philadelphia Pike\, Wilmington\, DE\, 19809\, United States
CATEGORIES:class,kink
ATTACH;FMTTYPE=image/jpeg:https://barxiii.com/wp-content/uploads/2023/06/356378278_832998328499159_4942061797776186820_n.jpg
END:VEVENT
BEGIN:VEVENT
DTSTART;TZID=America/New_York:20230708T130000
DTEND;TZID=America/New_York:20230708T160000
DTSTAMP:20260424T135612
CREATED:20230609T180936Z
LAST-MODIFIED:20230613T144108Z
UID:1717-1688821200-1688832000@barxiii.com
SUMMARY:Rope Share - Tie One On with Dr. DsKnotz
DESCRIPTION:Welcome to the Rope Share at Bar XIII…as part of Asylum 13…\n1pm to 4pm\, Saturday\, June 24th\, 2023. This event has a $13 per person cover charge to defray bar costs for hosting us. You can pay ahead or pay the day of the event…if you want to pay ahead\, PayPal or Zelle to: sageofpentacles@gmail.com and mark yourself as paid on the signup sheet. \nMany people are intrigued by and want to learn more about rope and how to do rope tying\, often referred to as Shibari or Kinbaku or other styles of rope tying\, this seminar will help provide some basic and useful information and instruction to those interested in exploring and developing their own skills with rope tying and give tools and tips and ideas on how to build from basic knots and concepts to have greater enjoyment of their own personal rope tying practice and experience. \nDr. DsKnotz will be your host\, along with his demo rope bottoms to lead this participation friendly event. We hope to facilitate discussion\, ideas and creative inspiration for those who attend. We will cover basic rope knots\, upper body and lower body tying and whole body tying applications. We will have discussion on rope safety and consent\, as well. Also\, feel free to bring your ideas for tying applications and feel free to share them with others or try-out new tying ideas. The aim is to provide both information and constructive feedback\, so that we all can learn something and increase our enjoyment of rope tying. \nWhat to bring: 5-6 lengths of rope ideally\, between 15 to 50 feet long\, rope may be synthetic fiber or natural fiber\, as we will go over the benefits and limitations of various fibers and styles of rope for tying applications. \nYou’ll also want to bring water or a bottle for water\, snacks\, a blanket or other suitable floor cover for your space at the venue.\nYou’ll want to dress casually and comfortably\, that allows for easy movement and application of rope. Dress code standards must be followed\, no exposed nipples or genitals\, would prefer minimum swimwear/underwear level of coverage\, for everyone’s comfort level that attends. \nNo alcohol allowed at this event.\nSpace is limited to 20 persons or rope pairings\, a wait list will be maintained and be used in case attendees cancel their reservation on a first added\, first offered basis. If we cannot accommodate everyone who is interested\, future rope share activities will likely be planned of similar type during the year. \nIf you RSVP on FB\, you must still sign up on the reservation sheet to have a spot on the main list or waitlist. \nSignup sheet here:\nhttps://docs.google.com/spreadsheets/d/1FKL3EpHueq4lyk4EVOhZTU4HQrAxBPsBzSrba1SQU70/edit?usp=sharing
URL:https://barxiii.com/e/rope101/
LOCATION:Bar XIII\, 1706 Philadelphia Pike\, Wilmington\, DE\, 19809\, United States
CATEGORIES:class,kink
ATTACH;FMTTYPE=image/jpeg:https://barxiii.com/wp-content/uploads/2023/06/event-ropeshare3-copy-1.jpg
END:VEVENT
BEGIN:VEVENT
DTSTART;TZID=America/New_York:20230615T190000
DTEND;TZID=America/New_York:20230615T200000
DTSTAMP:20260424T135612
CREATED:20230607T125028Z
LAST-MODIFIED:20230607T125028Z
UID:1712-1686855600-1686859200@barxiii.com
SUMMARY:Asylum Education: Needle Play 101
DESCRIPTION:Needle Play 101: Easy with Those Pricks\n\nThis beginner’s class is designed to introduce you to the safety precautions necessary when it comes to playing with sharps and piercing someone’s skin even just for play. This includes careful negotiations\, wound care\, and proper aftercare. In this class I will go over how to play with needles in a risk-aware fashion. I’ll also include information on what supplies you need as well as where to get them. I will demonstrate basic techniques as well as creating endorphin buttons. Even if you’re an experienced player\, you’ll still walk away with a new trick for your arsenal.\n\nOther points of conversation will include:\nWhat to do if things go wrong\nWays to set the mood and warm your bottom up\, creating a beautiful headspace\nSterilization for set up and clean up\nPlaying in public vs playing privately\n5 Secrets from an experienced player of 20+ years.\n\nThis class is open to all gender identities\, sexual preferences\, and relationship dynamics.\n\n\nBio:\n\nMiss Mackenzee is an International BDSM and Sexuality Educator\, Certified Hypnotist\, Trauma-informed Relationship Coach\, Kink Lifestyle and Adult Industry Mentor\, as well as a Professional Dominatrix. She has been involved in the kink lifestyle for over 20 years. Miss Mackenzee co-hosts the Kink\, Intimacy\, and Cannabis Lounge podcast and also creates beautiful one-of-a-kind self defense tools and BDSM toys with her live-in submissive. Mindfulness is a practice that she incorporates into her everyday life and enjoys helping others become more in tune with themselves and their partner(s). She teaches a full range of subjects including but not limited to energy play\, Tantra\, bondage\, power exchange\, reveling in pleasure\, hypnosis\, sexuality\, and the art of sadism.\n\nMiss Mackenzee is highly sought after for private lessons with individuals and couples as well as presenting at conventions and graduate programs at major universities. She has brought her experiences and skills to various organizations such as Kink.com\, Widener University\, TES\, SF Citadel\, Dark Odyssey\, Celebrity Cruiseline\, VoxBody Studio\, Filthy FemDom\, Wicked Grounds\, Black Thorn/Sacred Muse\, SINergy\, Kinky Kollege\, Bound In Boston\, YNot\, SheBop\, SADE\, Adventures in Sexuality\, ROPECRAFT\, Weekend of Wickedness\, Purple Passion\, Rochester Erotic Arts Festival\, Sexploratorium\, EXXXotica\, and many others.\n\nShe prides herself on creating a fostering environment that is safe from societal judgments for people to explore their kinks and sexuality. Each and every workshop is taught with passion and includes intentional energy. She welcomes people to be free and honest with themselves and their desires.\n\nShe invites you to interact with her:\nwww.MissMackenzee.com\nInstagram: Miss.Mackenzee\nTwitter: @MissMackenzee\nFetlife: MissMackenzee
URL:https://barxiii.com/e/needle/
LOCATION:Bar XIII\, 1706 Philadelphia Pike\, Wilmington\, DE\, 19809\, United States
CATEGORIES:class,kink
ATTACH;FMTTYPE=image/jpeg:https://barxiii.com/wp-content/uploads/2023/06/FBevent-munch-copy.jpg
END:VEVENT
BEGIN:VEVENT
DTSTART;TZID=America/New_York:20230601T190000
DTEND;TZID=America/New_York:20230601T200000
DTSTAMP:20260424T135612
CREATED:20230522T134128Z
LAST-MODIFIED:20230522T134128Z
UID:1672-1685646000-1685649600@barxiii.com
SUMMARY:Belly Dancing Class w/ Nickita Dee
DESCRIPTION:Let’s Rock & Body Roll! Fusion Belly Dance is a great way to get aerobic exercise and a full body movement workout\n\nJoin Nickita for an evening of fitness and fun! This class is for anyone looking to have fun while they get a full body workout. No experience? No problem! Hip scarves available.\n\nNickita Dee is a theatrical fusion dance performer. She has been dancing for over 20 years and has training in ballet\, jazz\, hip hop\, burlesque\, and belly dancing\, as well as flow and fire arts. From Renaissance Faires to Rock ‘n Roll shows\, this lady knows how to work her assets.
URL:https://barxiii.com/e/bellyd/
LOCATION:Bar XIII\, 1706 Philadelphia Pike\, Wilmington\, DE\, 19809\, United States
CATEGORIES:belly dancing,class
ATTACH;FMTTYPE=image/jpeg:https://barxiii.com/wp-content/uploads/2023/05/343670509_191807280333677_1461052570700182887_n.jpg
END:VEVENT
END:VCALENDAR