BEGIN:VCALENDAR
VERSION:2.0
PRODID:-//Bar XIII - ECPv6.15.20//NONSGML v1.0//EN
CALSCALE:GREGORIAN
METHOD:PUBLISH
X-WR-CALNAME:Bar XIII
X-ORIGINAL-URL:https://barxiii.com
X-WR-CALDESC:Events for Bar XIII
REFRESH-INTERVAL;VALUE=DURATION:PT1H
X-Robots-Tag:noindex
X-PUBLISHED-TTL:PT1H
BEGIN:VTIMEZONE
TZID:America/New_York
BEGIN:DAYLIGHT
TZOFFSETFROM:-0500
TZOFFSETTO:-0400
TZNAME:EDT
DTSTART:20250309T070000
END:DAYLIGHT
BEGIN:STANDARD
TZOFFSETFROM:-0400
TZOFFSETTO:-0500
TZNAME:EST
DTSTART:20251102T060000
END:STANDARD
BEGIN:DAYLIGHT
TZOFFSETFROM:-0500
TZOFFSETTO:-0400
TZNAME:EDT
DTSTART:20260308T070000
END:DAYLIGHT
BEGIN:STANDARD
TZOFFSETFROM:-0400
TZOFFSETTO:-0500
TZNAME:EST
DTSTART:20261101T060000
END:STANDARD
BEGIN:DAYLIGHT
TZOFFSETFROM:-0500
TZOFFSETTO:-0400
TZNAME:EDT
DTSTART:20270314T070000
END:DAYLIGHT
BEGIN:STANDARD
TZOFFSETFROM:-0400
TZOFFSETTO:-0500
TZNAME:EST
DTSTART:20271107T060000
END:STANDARD
END:VTIMEZONE
BEGIN:VEVENT
DTSTART;TZID=America/New_York:20260421T200000
DTEND;TZID=America/New_York:20260421T200000
DTSTAMP:20260421T084343
CREATED:20260319T194224Z
LAST-MODIFIED:20260403T151433Z
UID:3785-1776801600-1776801600@barxiii.com
SUMMARY:Dirty Sexy Bingo
DESCRIPTION:Every Tuesday Night� Starts NOW AT 8 PM (get here early for a seat!)� | 21+ with ID� Free parking for all you filthy animals A drink at the bar = free bingo cards.� Win a round\, and you’re walking away with a toy to keep you (or your partner) busy long after the balls stop rolling.\nKARAOKE NOW FOLLOWING BINGO! Starting at 11!\n Truck 13 keeps you fueled from 7 PM – midnight.� Happy Hour 6–8 PM: $3 beers\, $4 shots/mixed drinks\, half-off crafts.Come for the chaos\, stay for the debauchery.�This isn’t just bingo—it’s foreplay with numbers. \n Follow Bar XIII Delaware on Facebook or Instagram for more sinful events!
URL:https://barxiii.com/e/dirty-sexy-bingo-144/
LOCATION:Bar XIII\, 1706 Philadelphia Pike\, Wilmington\, DE\, 19809\, United States
CATEGORIES:bingo
ATTACH;FMTTYPE=image/jpeg:https://barxiii.com/wp-content/uploads/2026/03/bingo-purple.jpg
END:VEVENT
END:VCALENDAR