BEGIN:VCALENDAR
VERSION:2.0
PRODID:-//Bar XIII - ECPv6.15.20//NONSGML v1.0//EN
CALSCALE:GREGORIAN
METHOD:PUBLISH
X-WR-CALNAME:Bar XIII
X-ORIGINAL-URL:https://barxiii.com
X-WR-CALDESC:Events for Bar XIII
REFRESH-INTERVAL;VALUE=DURATION:PT1H
X-Robots-Tag:noindex
X-PUBLISHED-TTL:PT1H
BEGIN:VTIMEZONE
TZID:America/New_York
BEGIN:DAYLIGHT
TZOFFSETFROM:-0500
TZOFFSETTO:-0400
TZNAME:EDT
DTSTART:20250309T070000
END:DAYLIGHT
BEGIN:STANDARD
TZOFFSETFROM:-0400
TZOFFSETTO:-0500
TZNAME:EST
DTSTART:20251102T060000
END:STANDARD
BEGIN:DAYLIGHT
TZOFFSETFROM:-0500
TZOFFSETTO:-0400
TZNAME:EDT
DTSTART:20260308T070000
END:DAYLIGHT
BEGIN:STANDARD
TZOFFSETFROM:-0400
TZOFFSETTO:-0500
TZNAME:EST
DTSTART:20261101T060000
END:STANDARD
BEGIN:DAYLIGHT
TZOFFSETFROM:-0500
TZOFFSETTO:-0400
TZNAME:EDT
DTSTART:20270314T070000
END:DAYLIGHT
BEGIN:STANDARD
TZOFFSETFROM:-0400
TZOFFSETTO:-0500
TZNAME:EST
DTSTART:20271107T060000
END:STANDARD
END:VTIMEZONE
BEGIN:VTIMEZONE
TZID:America/New_York
BEGIN:DAYLIGHT
TZOFFSETFROM:-0500
TZOFFSETTO:-0400
TZNAME:EDT
DTSTART:20250309T070000
END:DAYLIGHT
BEGIN:STANDARD
TZOFFSETFROM:-0400
TZOFFSETTO:-0500
TZNAME:EST
DTSTART:20251102T060000
END:STANDARD
BEGIN:DAYLIGHT
TZOFFSETFROM:-0500
TZOFFSETTO:-0400
TZNAME:EDT
DTSTART:20260308T070000
END:DAYLIGHT
BEGIN:STANDARD
TZOFFSETFROM:-0400
TZOFFSETTO:-0500
TZNAME:EST
DTSTART:20261101T060000
END:STANDARD
BEGIN:DAYLIGHT
TZOFFSETFROM:-0500
TZOFFSETTO:-0400
TZNAME:EDT
DTSTART:20270314T070000
END:DAYLIGHT
BEGIN:STANDARD
TZOFFSETFROM:-0400
TZOFFSETTO:-0500
TZNAME:EST
DTSTART:20271107T060000
END:STANDARD
END:VTIMEZONE
BEGIN:VEVENT
DTSTART;TZID=America/New_York:20260420T193000
DTEND;TZID=America/New_York:20260420T193000
DTSTAMP:20260423T082334
CREATED:20260319T195916Z
LAST-MODIFIED:20260411T212620Z
UID:3799-1776713400-1776713400@barxiii.com
SUMMARY:Asylum 13 Book Club Meeting
DESCRIPTION:Welcome to the Asylum 13 Book Club\, where we dive into the realms of the spicy\, the magical\, the creature-filled\, the post-apocalyptic\, the horrific\, and everything nerdy! \n\nJoin us as we embark on a journey through the pages of novels that ignite our imaginations and transport us to fantastical worlds beyond our wildest dreams. From steamy romances to epic adventures\, from dark horrors to futuristic dystopias\, our book club explores the diverse and captivating genres that make up the literary universe.Whether you’re a seasoned bibliophile or just dipping your toes into the world of nerdy reads\, there’s a place for you in our club. Let’s gather together to discuss our favorite characters\, dissect plot twists\, and share our love for all things spicy\, magical\, and downright nerdy!\n\n3rd Mondays\, Monthly\, 7:30 PMStick around for Karaoke!
URL:https://barxiii.com/e/asylum-13-book-club-2/
LOCATION:Bar XIII\, 1706 Philadelphia Pike\, Wilmington\, DE\, 19809\, United States
CATEGORIES:book club
ATTACH;FMTTYPE=image/png:https://barxiii.com/wp-content/uploads/2025/01/02.17-ig.png
END:VEVENT
BEGIN:VEVENT
DTSTART;TZID=America/New_York:20260420T210000
DTEND;TZID=America/New_York:20260420T210000
DTSTAMP:20260423T082334
CREATED:20260319T194012Z
LAST-MODIFIED:20260319T194012Z
UID:3781-1776718800-1776718800@barxiii.com
SUMMARY:Karaoke
DESCRIPTION:🎤 Monday Night Karaoke at Bar XIII! 🎶 \nKick off your week with a night of fun\, music\, and singing your heart out! Whether you’re a seasoned performer or just want to belt it out for the fun of it\, Karaoke Night is always a blast at Bar XIII. \n🗓️ Every Monday Night\n⏰ 9PM to 1AM\n🎟️ No Cover | 21+ with ID\n🚗 Free Parking \n🍹 Drink Specials: \n\n$5 Margaritas\n$6 Mules\n$6 Green Tea Shots\n\n🍗 Food: Truck 13 will be open from 6 PM to 12 AM! Don’t miss $1 wings from 6 PM to 8 PM 🖤 \n🍺 Happy Hour: 6 PM – 8 PM\nEnjoy $3 beers\, $4 mixed drinks/shots\, and half-off all craft beers! \n🎵 Find us on Untappd: https://untappd.com/v/bar-xiii/4547918 \nFollow Bar XIII Delaware on Facebook or check out our website for more events and updates. Let’s make Monday night unforgettable! 🎉
URL:https://barxiii.com/e/karaoke-76/
LOCATION:Bar XIII\, 1706 Philadelphia Pike\, Wilmington\, DE\, 19809\, United States
CATEGORIES:karaoke
ATTACH;FMTTYPE=image/jpeg:https://barxiii.com/wp-content/uploads/2025/05/01-Monday-karaoke-ig.jpg
END:VEVENT
END:VCALENDAR