BEGIN:VCALENDAR
VERSION:2.0
PRODID:-//Bar XIII - ECPv6.15.20//NONSGML v1.0//EN
CALSCALE:GREGORIAN
METHOD:PUBLISH
X-WR-CALNAME:Bar XIII
X-ORIGINAL-URL:https://barxiii.com
X-WR-CALDESC:Events for Bar XIII
REFRESH-INTERVAL;VALUE=DURATION:PT1H
X-Robots-Tag:noindex
X-PUBLISHED-TTL:PT1H
BEGIN:VTIMEZONE
TZID:America/New_York
BEGIN:DAYLIGHT
TZOFFSETFROM:-0500
TZOFFSETTO:-0400
TZNAME:EDT
DTSTART:20250309T070000
END:DAYLIGHT
BEGIN:STANDARD
TZOFFSETFROM:-0400
TZOFFSETTO:-0500
TZNAME:EST
DTSTART:20251102T060000
END:STANDARD
BEGIN:DAYLIGHT
TZOFFSETFROM:-0500
TZOFFSETTO:-0400
TZNAME:EDT
DTSTART:20260308T070000
END:DAYLIGHT
BEGIN:STANDARD
TZOFFSETFROM:-0400
TZOFFSETTO:-0500
TZNAME:EST
DTSTART:20261101T060000
END:STANDARD
BEGIN:DAYLIGHT
TZOFFSETFROM:-0500
TZOFFSETTO:-0400
TZNAME:EDT
DTSTART:20270314T070000
END:DAYLIGHT
BEGIN:STANDARD
TZOFFSETFROM:-0400
TZOFFSETTO:-0500
TZNAME:EST
DTSTART:20271107T060000
END:STANDARD
END:VTIMEZONE
BEGIN:VEVENT
DTSTART;TZID=America/New_York:20260418T180000
DTEND;TZID=America/New_York:20260418T180000
DTSTAMP:20260423T112920
CREATED:20260319T200645Z
LAST-MODIFIED:20260403T145910Z
UID:3804-1776535200-1776535200@barxiii.com
SUMMARY:High Minded: a Show Where comics attempt Stand Up while Under the Influence
DESCRIPTION:Question… What happens when you give a bunch of Stand Up Comics a few drinks and some legal gummies from a local Delaware Smoke Shop\, then put them on stage to perform there act as well as give them random topics to riff on?\nAnswer… We have no clue! But we plan to find out at “HIGH MINDED” …. a comedy show like you have never seen before\nHosted by Fenris & Otis Timlin\nBar Opens @ 6pmShowtime at 10pm\n$10 Pre Sale$15 Cover at the door21+ w/ID\nThe TRUCK 13 Food Truck will be open during the Event\nThis is theme party comedy event. No illegal substances are permitted on the venue grounds.
URL:https://barxiii.com/e/high-minded-a-show-where-comics-attempt-stand-up-while-under-the-influence/
LOCATION:Bar XIII\, 1706 Philadelphia Pike\, Wilmington\, DE\, 19809\, United States
CATEGORIES:featured
ATTACH;FMTTYPE=image/jpeg:https://barxiii.com/wp-content/uploads/2026/03/high-minded.jpg
END:VEVENT
END:VCALENDAR