BEGIN:VCALENDAR
VERSION:2.0
PRODID:-//Bar XIII - ECPv6.15.20//NONSGML v1.0//EN
CALSCALE:GREGORIAN
METHOD:PUBLISH
X-ORIGINAL-URL:https://barxiii.com
X-WR-CALDESC:Events for Bar XIII
REFRESH-INTERVAL;VALUE=DURATION:PT1H
X-Robots-Tag:noindex
X-PUBLISHED-TTL:PT1H
BEGIN:VTIMEZONE
TZID:America/New_York
BEGIN:DAYLIGHT
TZOFFSETFROM:-0500
TZOFFSETTO:-0400
TZNAME:EDT
DTSTART:20240310T070000
END:DAYLIGHT
BEGIN:STANDARD
TZOFFSETFROM:-0400
TZOFFSETTO:-0500
TZNAME:EST
DTSTART:20241103T060000
END:STANDARD
BEGIN:DAYLIGHT
TZOFFSETFROM:-0500
TZOFFSETTO:-0400
TZNAME:EDT
DTSTART:20250309T070000
END:DAYLIGHT
BEGIN:STANDARD
TZOFFSETFROM:-0400
TZOFFSETTO:-0500
TZNAME:EST
DTSTART:20251102T060000
END:STANDARD
BEGIN:DAYLIGHT
TZOFFSETFROM:-0500
TZOFFSETTO:-0400
TZNAME:EDT
DTSTART:20260308T070000
END:DAYLIGHT
BEGIN:STANDARD
TZOFFSETFROM:-0400
TZOFFSETTO:-0500
TZNAME:EST
DTSTART:20261101T060000
END:STANDARD
END:VTIMEZONE
BEGIN:VEVENT
DTSTART;TZID=America/New_York:20250314T193000
DTEND;TZID=America/New_York:20250314T193000
DTSTAMP:20260419T103905
CREATED:20250302T013737Z
LAST-MODIFIED:20250302T013737Z
UID:3101-1741980600-1741980600@barxiii.com
SUMMARY:Deadsville Pop Punk Party with DJ Richie Riot and Bitter Tits!
DESCRIPTION:Deadsville’s Pop Punk Party!\nJoin us Friday March 14th as DJ Richie Riot spins all your favorite nostalgic warped tour hits!Live sets from Phillys Bitter Tits!\n$10 admission21+Beer Pong!and $2 PBR tall boys until 10pm!
URL:https://barxiii.com/e/deadsville-pop-punk/
LOCATION:Bar XIII\, 1706 Philadelphia Pike\, Wilmington\, DE\, 19809\, United States
CATEGORIES:Emo,featured,pop,punk
ATTACH;FMTTYPE=image/jpeg:https://barxiii.com/wp-content/uploads/2025/03/03.14-fb-scaled.jpg
END:VEVENT
END:VCALENDAR