BEGIN:VCALENDAR
VERSION:2.0
PRODID:-//Bar XIII - ECPv6.15.20//NONSGML v1.0//EN
CALSCALE:GREGORIAN
METHOD:PUBLISH
X-ORIGINAL-URL:https://barxiii.com
X-WR-CALDESC:Events for Bar XIII
REFRESH-INTERVAL;VALUE=DURATION:PT1H
X-Robots-Tag:noindex
X-PUBLISHED-TTL:PT1H
BEGIN:VTIMEZONE
TZID:America/New_York
BEGIN:DAYLIGHT
TZOFFSETFROM:-0500
TZOFFSETTO:-0400
TZNAME:EDT
DTSTART:20230312T070000
END:DAYLIGHT
BEGIN:STANDARD
TZOFFSETFROM:-0400
TZOFFSETTO:-0500
TZNAME:EST
DTSTART:20231105T060000
END:STANDARD
BEGIN:DAYLIGHT
TZOFFSETFROM:-0500
TZOFFSETTO:-0400
TZNAME:EDT
DTSTART:20240310T070000
END:DAYLIGHT
BEGIN:STANDARD
TZOFFSETFROM:-0400
TZOFFSETTO:-0500
TZNAME:EST
DTSTART:20241103T060000
END:STANDARD
BEGIN:DAYLIGHT
TZOFFSETFROM:-0500
TZOFFSETTO:-0400
TZNAME:EDT
DTSTART:20250309T070000
END:DAYLIGHT
BEGIN:STANDARD
TZOFFSETFROM:-0400
TZOFFSETTO:-0500
TZNAME:EST
DTSTART:20251102T060000
END:STANDARD
END:VTIMEZONE
BEGIN:VEVENT
DTSTART;TZID=America/New_York:20240827T210000
DTEND;TZID=America/New_York:20240827T210000
DTSTAMP:20260419T091122
CREATED:20240722T181411Z
LAST-MODIFIED:20240722T181411Z
UID:2645-1724792400-1724792400@barxiii.com
SUMMARY:Dirty Sexy Bingo
DESCRIPTION:Tracie and Jenn are hosting Dirty Sexy Bingo every Tuesday night with weekly Co-hosts! Start time is 9pm!\nBingo is free with drink purchase! Prizes for each round of winners!\nNo Cover. 21+ WITH ID\nFree parking\nFood: Truck 13 open 8pm to 12 am\nHAPPY HOUR 6PM – 8PM enjoy $3 beers\, $4 mixed drinks/shots and half off all craft beers! Find us on Untappd https://untappd.com/v/bar-xiii/4547918\nFollow Bar XIII Delaware on Facebook
URL:https://barxiii.com/e/dirty-sexy-bingo-63/
LOCATION:Bar XIII\, 1706 Philadelphia Pike\, Wilmington\, DE\, 19809\, United States
CATEGORIES:bingo
ATTACH;FMTTYPE=image/jpeg:https://barxiii.com/wp-content/uploads/2024/06/received_1510592206093448.jpeg
END:VEVENT
END:VCALENDAR