BEGIN:VCALENDAR
VERSION:2.0
PRODID:-//Bar XIII - ECPv6.15.20//NONSGML v1.0//EN
CALSCALE:GREGORIAN
METHOD:PUBLISH
X-WR-CALNAME:Bar XIII
X-ORIGINAL-URL:https://barxiii.com
X-WR-CALDESC:Events for Bar XIII
REFRESH-INTERVAL;VALUE=DURATION:PT1H
X-Robots-Tag:noindex
X-PUBLISHED-TTL:PT1H
BEGIN:VTIMEZONE
TZID:America/New_York
BEGIN:DAYLIGHT
TZOFFSETFROM:-0500
TZOFFSETTO:-0400
TZNAME:EDT
DTSTART:20230312T070000
END:DAYLIGHT
BEGIN:STANDARD
TZOFFSETFROM:-0400
TZOFFSETTO:-0500
TZNAME:EST
DTSTART:20231105T060000
END:STANDARD
BEGIN:DAYLIGHT
TZOFFSETFROM:-0500
TZOFFSETTO:-0400
TZNAME:EDT
DTSTART:20240310T070000
END:DAYLIGHT
BEGIN:STANDARD
TZOFFSETFROM:-0400
TZOFFSETTO:-0500
TZNAME:EST
DTSTART:20241103T060000
END:STANDARD
BEGIN:DAYLIGHT
TZOFFSETFROM:-0500
TZOFFSETTO:-0400
TZNAME:EDT
DTSTART:20250309T070000
END:DAYLIGHT
BEGIN:STANDARD
TZOFFSETFROM:-0400
TZOFFSETTO:-0500
TZNAME:EST
DTSTART:20251102T060000
END:STANDARD
END:VTIMEZONE
BEGIN:VEVENT
DTSTART;TZID=America/New_York:20240826T210000
DTEND;TZID=America/New_York:20240826T210000
DTSTAMP:20260419T122048
CREATED:20240722T181316Z
LAST-MODIFIED:20240722T181316Z
UID:2642-1724706000-1724706000@barxiii.com
SUMMARY:Monday Night Karaoke at Bar XIII
DESCRIPTION:Come by and sing your heart out every Monday Night at Bar XIII!!! ! It’s always a great time! From 9pm to 1am \nNo Cover. 21+ WITH ID\nFree parking \nDrink special: $5 margaritas\, $6 mules\, $6 green tea shots  \nFood: Truck 13 will be open 6 pm to 1 am \nHAPPY HOUR 6PM – 8PM enjoy $3 beers\, $4 mixed drinks/shots and half off all craft beers! Find us on Untappd https://untappd.com/v/bar-xiii/4547918  \nFollow Bar XIII Delaware on Facebook or check out the website for more events and info.
URL:https://barxiii.com/e/monday-night-karaoke-at-bar-xiii-66/
LOCATION:Bar XIII\, 1706 Philadelphia Pike\, Wilmington\, DE\, 19809\, United States
CATEGORIES:karaoke
ATTACH;FMTTYPE=image/jpeg:https://barxiii.com/wp-content/uploads/2023/01/320570314_481585784080078_1322275726521059189_n.jpg
END:VEVENT
END:VCALENDAR