BEGIN:VCALENDAR
VERSION:2.0
PRODID:-//Bar XIII - ECPv6.15.20//NONSGML v1.0//EN
CALSCALE:GREGORIAN
METHOD:PUBLISH
X-ORIGINAL-URL:https://barxiii.com
X-WR-CALDESC:Events for Bar XIII
REFRESH-INTERVAL;VALUE=DURATION:PT1H
X-Robots-Tag:noindex
X-PUBLISHED-TTL:PT1H
BEGIN:VTIMEZONE
TZID:America/New_York
BEGIN:DAYLIGHT
TZOFFSETFROM:-0500
TZOFFSETTO:-0400
TZNAME:EDT
DTSTART:20230312T070000
END:DAYLIGHT
BEGIN:STANDARD
TZOFFSETFROM:-0400
TZOFFSETTO:-0500
TZNAME:EST
DTSTART:20231105T060000
END:STANDARD
BEGIN:DAYLIGHT
TZOFFSETFROM:-0500
TZOFFSETTO:-0400
TZNAME:EDT
DTSTART:20240310T070000
END:DAYLIGHT
BEGIN:STANDARD
TZOFFSETFROM:-0400
TZOFFSETTO:-0500
TZNAME:EST
DTSTART:20241103T060000
END:STANDARD
BEGIN:DAYLIGHT
TZOFFSETFROM:-0500
TZOFFSETTO:-0400
TZNAME:EDT
DTSTART:20250309T070000
END:DAYLIGHT
BEGIN:STANDARD
TZOFFSETFROM:-0400
TZOFFSETTO:-0500
TZNAME:EST
DTSTART:20251102T060000
END:STANDARD
END:VTIMEZONE
BEGIN:VEVENT
DTSTART;TZID=America/New_York:20240824T200000
DTEND;TZID=America/New_York:20240824T200000
DTSTAMP:20260423T190255
CREATED:20240722T190015Z
LAST-MODIFIED:20240807T034125Z
UID:2670-1724529600-1724529600@barxiii.com
SUMMARY:That Time I Danced So Hard I Got Isekai'd - An Anime\, Cosplay\, J-Pop & J-Rock Dance Party
DESCRIPTION:Asylum 13 and J1-Con proudly present “That Time I Danced So Hard I Got Isekai’d”\, a cosplay dance party where your favorite anime and manga worlds collide with the enchanting beats of J-Pop and J-Rock.\nAsylum 13\, the region’s longest-running weekly dark alternative dance party has joined forces with J1-Con\, the longest-running minority-owned gaming convention in the US\, to bring you an incredible night of cosplay\, anime\, and music that you won’t soon forget.\n\nMusic by Asylum 13 DJs: Immerse yourself in a night filled with the iconic opening and closing themes from beloved anime series\, interspersed with other popular J-Pop and J-Rock hits. Dance to the anthems that have defined countless adventures and emotional moments from your favorite shows.\nCosplay Extravaganza: Transform into your favorite anime character\, video game hero\, or manga superstar! Showcase your most creative and elaborate cosplay outfits and join fellow fans in a celebration of creativity and fandom.\nPhoto Ops: Capture the magic of the night with photo opportunities throughout the venue. Strike a pose with fellow cosplayers\, immortalize your favorite moments\, and make memories that last a lifetime.\nSpecial Surprises: Keep an eye out for special surprises and interactive elements that will make this night truly unforgettable. You never know what fantastic characters and unexpected delights await!\n\nJoin us at Bar XIII for “That Time I Danced So Hard I Got Isekai’d\,” where the worlds of fantasy and music collide in an unforgettable night of dancing\, cosplay\, and celebration. Don’t miss out on this unique event that promises to be a highlight of your summer!\nEmbrace the adventure and dance your way into another world – see you on the dance floor!\n\nTICKETS
URL:https://barxiii.com/e/anime-dance-party-august-24-2024/
LOCATION:Bar XIII\, 1706 Philadelphia Pike\, Wilmington\, DE\, 19809\, United States
CATEGORIES:dance,featured
ATTACH;FMTTYPE=image/jpeg:https://barxiii.com/wp-content/uploads/2024/07/08.24-fb.jpg
END:VEVENT
END:VCALENDAR