BEGIN:VCALENDAR
VERSION:2.0
PRODID:-//Bar XIII - ECPv6.15.20//NONSGML v1.0//EN
CALSCALE:GREGORIAN
METHOD:PUBLISH
X-WR-CALNAME:Bar XIII
X-ORIGINAL-URL:https://barxiii.com
X-WR-CALDESC:Events for Bar XIII
REFRESH-INTERVAL;VALUE=DURATION:PT1H
X-Robots-Tag:noindex
X-PUBLISHED-TTL:PT1H
BEGIN:VTIMEZONE
TZID:America/New_York
BEGIN:DAYLIGHT
TZOFFSETFROM:-0500
TZOFFSETTO:-0400
TZNAME:EDT
DTSTART:20230312T070000
END:DAYLIGHT
BEGIN:STANDARD
TZOFFSETFROM:-0400
TZOFFSETTO:-0500
TZNAME:EST
DTSTART:20231105T060000
END:STANDARD
BEGIN:DAYLIGHT
TZOFFSETFROM:-0500
TZOFFSETTO:-0400
TZNAME:EDT
DTSTART:20240310T070000
END:DAYLIGHT
BEGIN:STANDARD
TZOFFSETFROM:-0400
TZOFFSETTO:-0500
TZNAME:EST
DTSTART:20241103T060000
END:STANDARD
BEGIN:DAYLIGHT
TZOFFSETFROM:-0500
TZOFFSETTO:-0400
TZNAME:EDT
DTSTART:20250309T070000
END:DAYLIGHT
BEGIN:STANDARD
TZOFFSETFROM:-0400
TZOFFSETTO:-0500
TZNAME:EST
DTSTART:20251102T060000
END:STANDARD
END:VTIMEZONE
BEGIN:VEVENT
DTSTART;TZID=America/New_York:20240822T193000
DTEND;TZID=America/New_York:20240822T193000
DTSTAMP:20260425T080312
CREATED:20240722T182513Z
LAST-MODIFIED:20240729T161453Z
UID:2656-1724355000-1724355000@barxiii.com
SUMMARY:Wilmington Munch - August
DESCRIPTION:Every 4th Thursday we meet at Bar XIII to meet new friends and learn about/from each other. Format for 4th Thursdays will be more free range with optional group discussions and occasional demos/speaker. Be on the look out for more in depth lessons\, private sessions and more.\n\nFood truck\nDrink specials\n50/50 raffle\nVending by Sadistic Steel & Leather\n\nAll events will precede Asylum 13 where you can spend time with your new friends\, practice skills and just a have a good time dancing. Cover is $7-$10
URL:https://barxiii.com/e/wilmington-munch-aug24/
LOCATION:Bar XIII\, 1706 Philadelphia Pike\, Wilmington\, DE\, 19809\, United States
CATEGORIES:munch
ATTACH;FMTTYPE=image/jpeg:https://barxiii.com/wp-content/uploads/2024/01/419089943_961940568938267_4497707242290199457_n.jpg
END:VEVENT
BEGIN:VEVENT
DTSTART;TZID=America/New_York:20240822T210000
DTEND;TZID=America/New_York:20240822T210000
DTSTAMP:20260425T080312
CREATED:20240722T182630Z
LAST-MODIFIED:20240722T182630Z
UID:2657-1724360400-1724360400@barxiii.com
SUMMARY:Asylum 13 w DJ Brad Scott & Stygian
DESCRIPTION:Dark Beats Dance Party. Rotating DJ’s. Goth\, Industrial\, Dark wave. Cover $7. 21+ with ID. Free parking\nhttp://barxiii.com/asylum13/\nFood: Truck 13 6pm to 1am\nHAPPY HOUR 6PM – 8PM enjoy $3 beers\, $4 mixed drinks/shots and half off all craft beers! Find us on Untappd https://untappd.com/v/bar-xiii/4547918\nFollow Bar XIII Delaware on Facebook or check out the website for more events and info.\nJoin the Facebook group! https://www.facebook.com/groups/asylum13.inmates/
URL:https://barxiii.com/e/asylum-13-w-dj-brad-scott-stygian-6/
LOCATION:Bar XIII\, 1706 Philadelphia Pike\, Wilmington\, DE\, 19809\, United States
CATEGORIES:dance
ATTACH;FMTTYPE=image/jpeg:https://barxiii.com/wp-content/uploads/2024/07/08.22-ig.jpg
END:VEVENT
END:VCALENDAR