BEGIN:VCALENDAR
VERSION:2.0
PRODID:-//Bar XIII - ECPv6.15.20//NONSGML v1.0//EN
CALSCALE:GREGORIAN
METHOD:PUBLISH
X-WR-CALNAME:Bar XIII
X-ORIGINAL-URL:https://barxiii.com
X-WR-CALDESC:Events for Bar XIII
REFRESH-INTERVAL;VALUE=DURATION:PT1H
X-Robots-Tag:noindex
X-PUBLISHED-TTL:PT1H
BEGIN:VTIMEZONE
TZID:America/New_York
BEGIN:DAYLIGHT
TZOFFSETFROM:-0500
TZOFFSETTO:-0400
TZNAME:EDT
DTSTART:20230312T070000
END:DAYLIGHT
BEGIN:STANDARD
TZOFFSETFROM:-0400
TZOFFSETTO:-0500
TZNAME:EST
DTSTART:20231105T060000
END:STANDARD
BEGIN:DAYLIGHT
TZOFFSETFROM:-0500
TZOFFSETTO:-0400
TZNAME:EDT
DTSTART:20240310T070000
END:DAYLIGHT
BEGIN:STANDARD
TZOFFSETFROM:-0400
TZOFFSETTO:-0500
TZNAME:EST
DTSTART:20241103T060000
END:STANDARD
BEGIN:DAYLIGHT
TZOFFSETFROM:-0500
TZOFFSETTO:-0400
TZNAME:EDT
DTSTART:20250309T070000
END:DAYLIGHT
BEGIN:STANDARD
TZOFFSETFROM:-0400
TZOFFSETTO:-0500
TZNAME:EST
DTSTART:20251102T060000
END:STANDARD
END:VTIMEZONE
BEGIN:VEVENT
DTSTART;TZID=America/New_York:20240817T190000
DTEND;TZID=America/New_York:20240817T190000
DTSTAMP:20260423T100656
CREATED:20240722T185027Z
LAST-MODIFIED:20240722T185027Z
UID:2666-1723921200-1723921200@barxiii.com
SUMMARY:Tool tribute Schism w/ Jagged Little Thrill (Alanis Morissette) & Crimes of Passion (Pat Benatar)
DESCRIPTION:8/17 Tool tribute Schism with Jagged Little Thrill (Alanis Morrisette Tribute) & Crimes of Passion (Pat Benatar Tribute)\nDoors 7pm. Show at 8pm. $25 now. $30 dos. 21&up.Let us know what you want to hear. The fans write the setlist. It’s YOUR show.\nGet your Tickets
URL:https://barxiii.com/e/schism-w-jagged-crimes/
LOCATION:Bar XIII\, 1706 Philadelphia Pike\, Wilmington\, DE\, 19809\, United States
CATEGORIES:featured,Live Music,rock
ATTACH;FMTTYPE=image/png:https://barxiii.com/wp-content/uploads/2024/07/08.17-fb.png
END:VEVENT
END:VCALENDAR