BEGIN:VCALENDAR
VERSION:2.0
PRODID:-//Bar XIII - ECPv6.15.20//NONSGML v1.0//EN
CALSCALE:GREGORIAN
METHOD:PUBLISH
X-WR-CALNAME:Bar XIII
X-ORIGINAL-URL:https://barxiii.com
X-WR-CALDESC:Events for Bar XIII
REFRESH-INTERVAL;VALUE=DURATION:PT1H
X-Robots-Tag:noindex
X-PUBLISHED-TTL:PT1H
BEGIN:VTIMEZONE
TZID:America/New_York
BEGIN:DAYLIGHT
TZOFFSETFROM:-0500
TZOFFSETTO:-0400
TZNAME:EDT
DTSTART:20230312T070000
END:DAYLIGHT
BEGIN:STANDARD
TZOFFSETFROM:-0400
TZOFFSETTO:-0500
TZNAME:EST
DTSTART:20231105T060000
END:STANDARD
BEGIN:DAYLIGHT
TZOFFSETFROM:-0500
TZOFFSETTO:-0400
TZNAME:EDT
DTSTART:20240310T070000
END:DAYLIGHT
BEGIN:STANDARD
TZOFFSETFROM:-0400
TZOFFSETTO:-0500
TZNAME:EST
DTSTART:20241103T060000
END:STANDARD
BEGIN:DAYLIGHT
TZOFFSETFROM:-0500
TZOFFSETTO:-0400
TZNAME:EDT
DTSTART:20250309T070000
END:DAYLIGHT
BEGIN:STANDARD
TZOFFSETFROM:-0400
TZOFFSETTO:-0500
TZNAME:EST
DTSTART:20251102T060000
END:STANDARD
END:VTIMEZONE
BEGIN:VEVENT
DTSTART;TZID=America/New_York:20240814T203000
DTEND;TZID=America/New_York:20240814T203000
DTSTAMP:20260423T231645
CREATED:20240722T181459Z
LAST-MODIFIED:20240722T181459Z
UID:2647-1723667400-1723667400@barxiii.com
SUMMARY:Comedy Night Open Mic
DESCRIPTION:Join us for an evening of stand up and music Comedy from some of the best up and coming local talent\, whether you’re an established Comic looking to work on new material or someone who has always wanted to give stand up a try\, the mic is open to everyone regardless of experience level. Hosted by Fenris\nSign ups start at 8:30\nOpen mic starts at 9\nFeel free to contact the host at fenristwins@yahoo.com with any questions \nFood: Truck 13 open 8pm to 12am\nNo Cover. 21+ WITH ID\nHAPPY HOUR 6PM – 8PM
URL:https://barxiii.com/e/comedy-night-open-mic-62/
LOCATION:Bar XIII\, 1706 Philadelphia Pike\, Wilmington\, DE\, 19809\, United States
CATEGORIES:comedy,open mic
ATTACH;FMTTYPE=image/jpeg:https://barxiii.com/wp-content/uploads/2023/01/320894248_475924251288724_6963447019278638311_n.jpg
END:VEVENT
END:VCALENDAR