BEGIN:VCALENDAR
VERSION:2.0
PRODID:-//Bar XIII - ECPv6.15.20//NONSGML v1.0//EN
CALSCALE:GREGORIAN
METHOD:PUBLISH
X-WR-CALNAME:Bar XIII
X-ORIGINAL-URL:https://barxiii.com
X-WR-CALDESC:Events for Bar XIII
REFRESH-INTERVAL;VALUE=DURATION:PT1H
X-Robots-Tag:noindex
X-PUBLISHED-TTL:PT1H
BEGIN:VTIMEZONE
TZID:America/New_York
BEGIN:DAYLIGHT
TZOFFSETFROM:-0500
TZOFFSETTO:-0400
TZNAME:EDT
DTSTART:20220313T070000
END:DAYLIGHT
BEGIN:STANDARD
TZOFFSETFROM:-0400
TZOFFSETTO:-0500
TZNAME:EST
DTSTART:20221106T060000
END:STANDARD
BEGIN:DAYLIGHT
TZOFFSETFROM:-0500
TZOFFSETTO:-0400
TZNAME:EDT
DTSTART:20230312T070000
END:DAYLIGHT
BEGIN:STANDARD
TZOFFSETFROM:-0400
TZOFFSETTO:-0500
TZNAME:EST
DTSTART:20231105T060000
END:STANDARD
BEGIN:DAYLIGHT
TZOFFSETFROM:-0500
TZOFFSETTO:-0400
TZNAME:EDT
DTSTART:20240310T070000
END:DAYLIGHT
BEGIN:STANDARD
TZOFFSETFROM:-0400
TZOFFSETTO:-0500
TZNAME:EST
DTSTART:20241103T060000
END:STANDARD
END:VTIMEZONE
BEGIN:VEVENT
DTSTART;TZID=America/New_York:20231120T210000
DTEND;TZID=America/New_York:20231120T210000
DTSTAMP:20260419T122520
CREATED:20231017T133351Z
LAST-MODIFIED:20231120T141638Z
UID:2015-1700514000-1700514000@barxiii.com
SUMMARY:Monday Night Karaoke at Bar XIII - PJ Night
DESCRIPTION:Pajama Night!  Come in your comfiest. \nCome on out and sing your brains out every Monday Night!!! See our beauties behind the bar for your liquid courage!! It’s always a great time! From 9pm to 1am\nNo Cover. 21+ WITH ID\nHAPPY HOUR 5PM – 8PM\, get your liquid courage to talk to that cutie you’ve been eyeing…\nFollow Bar XIII Delaware on Facebook
URL:https://barxiii.com/e/monday-night-karaoke-at-bar-xiii-29/
LOCATION:Bar XIII\, 1706 Philadelphia Pike\, Wilmington\, DE\, 19809\, United States
CATEGORIES:karaoke
ATTACH;FMTTYPE=image/jpeg:https://barxiii.com/wp-content/uploads/2023/01/320570314_481585784080078_1322275726521059189_n.jpg
END:VEVENT
END:VCALENDAR